Workbook
Name サイズ1: #REF!
Name サイズ2: 市郡別!$G$3
Name サイズ2: #REF!
Name サイズ3: 松山市!$G$2
Name サイズ4: 中予地区!$G$2
Name サイズ5: 南予地区①!$G$2
Name サイズ6: 南予地区②!$G$2
Name サイズ7: 東予地区①!$G$2
Name サイズ8: 東予地区②!$G$2
Name タイトル等1: #REF!
Name タイトル等2: #REF!
Name タイトル等3: 松山市!$O$2
Name タイトル等4: 中予地区!$O$2
Name タイトル等5: 南予地区①!$O$2
Name タイトル等6: 南予地区②!$O$2
Name タイトル等7: 東予地区①!$O$2
Name タイトル等8: 東予地区②!$O$2
Name 広告主名1: #REF!
Name 広告主名2: #REF!
Name 広告主名3: 松山市!$I$2
Name 広告主名4: 中予地区!$I$2
Name 広告主名5: 南予地区①!$I$2
Name 広告主名6: 南予地区②!$I$2
Name 広告主名7: 東予地区①!$I$2
Name 広告主名8: 東予地区②!$I$2
Name 申込者名1: #REF!
Name 申込者名2: #REF!
Name 申込者名3: 松山市!$R$2
Name 申込者名4: 中予地区!$R$2
Name 申込者名5: 南予地区①!$R$2
Name 申込者名6: 南予地区②!$R$2
Name 申込者名7: 東予地区①!$R$2
Name 申込者名8: 東予地区②!$R$2
Name 折込指定日1: #REF!
Name 折込指定日2: #REF!
Name 折込指定日3: 松山市!$A$2
Name 折込指定日4: 中予地区!$A$2
Name 折込指定日5: 南予地区①!$A$2
Name 折込指定日6: 南予地区②!$A$2
Name 折込指定日7: 東予地区①!$A$2
Name 折込指定日8: 東予地区②!$A$2
Name 折込総数1: #REF!
Name 折込総数2: #REF!
Name 折込総数3: 松山市!$C$2
Name 折込総数4: 中予地区!$C$2
Name 折込総数5: 南予地区①!$C$2
Name 折込総数6: 南予地区②!$C$2
Name 折込総数7: 東予地区①!$C$2
Name 折込総数8: 東予地区②!$C$2

Sheet 市郡別
A2: 折込指定日 | B2: 折込総数 | E2: 折込見積金額（税別） | G2: サイズ | I2: 広告主名（チラシ表記の名称） | L2: タイトル等(詳しく記入) | O2: 申込者名
B3: =IF(サイズ2="","",SUM(P29)) -> 0 | E3: =IF(サイズ2="-","-",O32) -> - | G3: -
A5: 愛媛県折込部数表 | B5: 2025年10月現在②
A7: 市、郡 別 | B7: 愛 媛 新 聞 | E7: 読 売 新 聞 | G7: 朝 日 新 聞 | I7: 毎 日 新 聞 | K7: 産 経 新 聞 | M7: 日 経 新 聞 | O7: 全 紙 合 計
B8: 総 部 数 | C8: 折 込 数 | E8: 総 部 数 | F8: 折 込 数 | G8: 総 部 数 | H8: 折 込 数 | I8: 総 部 数 | J8: 折 込 数 | K8: 総 部 数 | L8: 折 込 数 | M8: 総 部 数 | N8: 折 込 数 | O8: 全 紙 部 数 | P8: 全紙折込数
A9: 松山市 | B9: =松山市!C44 -> 59720 | C9: =松山市!D44 -> 0 | E9: =松山市!G44 -> 13180 | F9: =松山市!H44 -> 0 | G9: =松山市!L44 -> 14020 | H9: =松山市!N44 -> 0 | I9: =松山市!P44 -> 2690 | J9: =松山市!Q44 -> 0 | K9: =松山市!S44 -> 1910 | L9: =松山市!U44 -> 0 | M9: =松山市!W44 -> 4650 | N9: =松山市!X44 -> 0 | O9: =SUM(B9,E9,G9,I9,K9,M9) -> 96170 | P9: =IF(サイズ2="","",SUM(C9,F9,H9,J9,L9,N9)) -> 0
A10: 東温市 | B10: =中予地区!C9 -> 4520 | C10: =中予地区!D9 -> 0 | E10: =中予地区!G9 -> 800 | F10: =中予地区!H9 -> 0 | G10: =中予地区!L9 -> 550 | H10: =中予地区!N9 -> 0 | I10: =中予地区!P9 -> 60 | J10: =中予地区!Q9 -> 0 | K10: =中予地区!S9 -> 10 | L10: =中予地区!U9 -> 0 | M10: =中予地区!W9 -> 190 | N10: =中予地区!X9 -> 0 | O10: =SUM(B10,E10,G10,I10,K10,M10) -> 6130 | P10: =IF(サイズ2="","",SUM(C10,F10,H10,J10,L10,N10)) -> 0
A11: 伊予市 | B11: =中予地区!C17 -> 5500 | C11: =中予地区!D17 -> 0 | E11: =中予地区!G17 -> 660 | F11: =中予地区!H17 -> 0 | G11: =中予地区!L17 -> 710 | H11: =中予地区!N17 -> 0 | I11: =中予地区!P17 -> 30 | J11: =中予地区!Q17 -> 0 | K11: =中予地区!S17 -> 30 | L11: =中予地区!U17 -> 0 | M11: =中予地区!W17 -> 210 | N11: =中予地区!X17 -> 0 | O11: =SUM(B11,E11,G11,I11,K11,M11) -> 7140 | P11: =IF(サイズ2="","",SUM(C11,F11,H11,J11,L11,N11)) -> 0
A12: 伊予郡 | B12: =中予地区!C24 -> 7330 | C12: =中予地区!D24 -> 0 | E12: =中予地区!G24 -> 1440 | F12: =中予地区!H24 -> 0 | G12: =中予地区!L24 -> 1150 | H12: =中予地区!N24 -> 0 | I12: =中予地区!P24 -> 160 | J12: =中予地区!Q24 -> 0 | K12: =中予地区!S24 -> 60 | L12: =中予地区!U24 -> 0 | M12: =中予地区!W24 -> 280 | N12: =中予地区!X24 -> 0 | O12: =SUM(B12,E12,G12,I12,K12,M12) -> 10420 | P12: =IF(サイズ2="","",SUM(C12,F12,H12,J12,L12,N12)) -> 0
A13: 上浮穴郡 | B13: =中予地区!C31 -> 1370 | C13: =中予地区!D31 -> 0 | E13: =中予地区!G31 -> 20 | F13: =中予地区!H31 -> 0 | G13: =中予地区!L31 -> 70 | H13: =中予地区!N31 -> 0 | I13: =中予地区!P31 -> 0 | J13: =中予地区!Q31 -> 0 | K13: =中予地区!S31 -> 0 | L13: =中予地区!U31 -> 0 | M13: =中予地区!W31 -> 20 | N13: =中予地区!X31 -> 0 | O13: =SUM(B13,E13,G13,I13,K13,M13) -> 1480 | P13: =IF(サイズ2="","",SUM(C13,F13,H13,J13,L13,N13)) -> 0
A14: 喜多郡 | B14: =南予地区①!C10 -> 2690 | C14: =南予地区①!D10 -> 0 | E14: =南予地区①!G10 -> 160 | F14: =南予地区①!H10 -> 0 | G14: =南予地区①!L10 -> 120 | H14: =南予地区①!N10 -> 0 | I14: =南予地区①!P10 -> 50 | J14: =南予地区①!Q10 -> 0 | K14: =南予地区①!S10 -> 30 | L14: =南予地区①!U10 -> 0 | M14: =南予地区①!W10 -> 80 | N14: =南予地区①!X10 -> 0 | O14: =SUM(B14,E14,G14,I14,K14,M14) -> 3130 | P14: =IF(サイズ2="","",SUM(C14,F14,H14,J14,L14,N14)) -> 0
A15: 大洲市 | B15: =南予地区①!C21 -> 6320 | C15: =南予地区①!D21 -> 0 | E15: =南予地区①!G21 -> 1000 | F15: =南予地区①!H21 -> 0 | G15: =南予地区①!L21 -> 1170 | H15: =南予地区①!N21 -> 0 | I15: =南予地区①!P21 -> 100 | J15: =南予地区①!Q21 -> 0 | K15: =南予地区①!S21 -> 90 | L15: =南予地区①!U21 -> 0 | M15: =南予地区①!W21 -> 220 | N15: =南予地区①!X21 -> 0 | O15: =SUM(B15,E15,G15,I15,K15,M15) -> 8900 | P15: =IF(サイズ2="","",SUM(C15,F15,H15,J15,L15,N15)) -> 0
A16: 八幡浜市 | B16: =南予地区①!C27 -> 5710 | C16: =南予地区①!D27 -> 0 | E16: =南予地区①!G27 -> 900 | F16: =南予地区①!H27 -> 0 | G16: =南予地区①!L27 -> 510 | H16: =南予地区①!N27 -> 0 | I16: =南予地区①!P27 -> 170 | J16: =南予地区①!Q27 -> 0 | K16: =南予地区①!S27 -> 50 | L16: =南予地区①!U27 -> 0 | M16: =南予地区①!W27 -> 220 | N16: =南予地区①!X27 -> 0 | O16: =SUM(B16,E16,G16,I16,K16,M16) -> 7560 | P16: =IF(サイズ2="","",SUM(C16,F16,H16,J16,L16,N16)) -> 0
A17: 西宇和郡 | B17: =南予地区①!C32 -> 1660 | C17: =南予地区①!D32 -> 0 | E17: =南予地区①!G32 -> 60 | F17: =南予地区①!H32 -> 0 | G17: =南予地区①!L32 -> 70 | H17: =南予地区①!N32 -> 0 | I17: =南予地区①!P32 -> 20 | J17: =南予地区①!Q32 -> 0 | K17: =南予地区①!S32 -> 10 | L17: =南予地区①!U32 -> 0 | M17: =南予地区①!W32 -> 50 | N17: =南予地区①!X32 -> 0 | O17: =SUM(B17,E17,G17,I17,K17,M17) -> 1870 | P17: =IF(サイズ2="","",SUM(C17,F17,H17,J17,L17,N17)) -> 0
A18: 西予市 | B18: =南予地区①!C43 -> 6880 | C18: =南予地区①!D43 -> 0 | E18: =南予地区①!G43 -> 880 | F18: =南予地区①!H43 -> 0 | G18: =南予地区①!L43 -> 590 | H18: =南予地区①!N43 -> 0 | I18: =南予地区①!P43 -> 40 | J18: =南予地区①!Q43 -> 0 | K18: =南予地区①!S43 -> 50 | L18: =南予地区①!U43 -> 0 | M18: =南予地区①!W43 -> 170 | N18: =南予地区①!X43 -> 0 | O18: =SUM(B18,E18,G18,I18,K18,M18) -> 8610 | P18: =IF(サイズ2="","",SUM(C18,F18,H18,J18,L18,N18)) -> 0
A19: 宇和島市 | B19: =南予地区②!C14 -> 12740 | C19: =南予地区②!D14 -> 0 | E19: =南予地区②!G14 -> 1510 | F19: =南予地区②!H14 -> 0 | G19: =南予地区②!L14 -> 810 | H19: =南予地区②!N14 -> 0 | I19: =南予地区②!P14 -> 170 | J19: =南予地区②!Q14 -> 0 | K19: =南予地区②!S14 -> 440 | L19: =南予地区②!U14 -> 0 | M19: =南予地区②!W14 -> 370 | N19: =南予地区②!X14 -> 0 | O19: =SUM(B19,E19,G19,I19,K19,M19) -> 16040 | P19: =IF(サイズ2="","",SUM(C19,F19,H19,J19,L19,N19)) -> 0
A20: 北宇和郡 | B20: =南予地区②!C24 -> 2390 | C20: =南予地区②!D24 -> 0 | E20: =南予地区②!G24 -> 90 | F20: =南予地区②!H24 -> 0 | G20: =南予地区②!L24 -> 110 | H20: =南予地区②!N24 -> 0 | I20: =南予地区②!P24 -> 0 | J20: =南予地区②!Q24 -> 0 | K20: =南予地区②!S24 -> 0 | L20: =南予地区②!U24 -> 0 | M20: =南予地区②!W24 -> 40 | N20: =南予地区②!X24 -> 0 | O20: =SUM(B20,E20,G20,I20,K20,M20) -> 2630 | P20: =IF(サイズ2="","",SUM(C20,F20,H20,J20,L20,N20)) -> 0
A21: 南宇和郡 | B21: =南予地区②!C31 -> 3550 | C21: =南予地区②!D31 -> 0 | E21: =南予地区②!G31 -> 130 | F21: =南予地区②!H31 -> 0 | G21: =南予地区②!L31 -> 610 | H21: =南予地区②!N31 -> 0 | I21: =南予地区②!P31 -> 0 | J21: =南予地区②!Q31 -> 0 | K21: =南予地区②!S31 -> 0 | L21: =南予地区②!U31 -> 0 | M21: =南予地区②!W31 -> 80 | N21: =南予地区②!X31 -> 0 | O21: =SUM(B21,E21,G21,I21,K21,M21) -> 4370 | P21: =IF(サイズ2="","",SUM(C21,F21,H21,J21,L21,N21)) -> 0
A22: 四国中央市 | B22: =東予地区①!C13 -> 6690 | C22: =東予地区①!D13 -> 0 | E22: =東予地区①!G13 -> 4100 | F22: =東予地区①!H13 -> 0 | G22: =東予地区①!L13 -> 6800 | H22: =東予地区①!N13 -> 0 | I22: =東予地区①!P13 -> 1180 | J22: =東予地区①!Q13 -> 0 | K22: =東予地区①!S13 -> 320 | L22: =東予地区①!U13 -> 0 | M22: =東予地区①!W13 -> 850 | N22: =東予地区①!X13 -> 0 | O22: =SUM(B22,E22,G22,I22,K22,M22) -> 19940 | P22: =IF(サイズ2="","",SUM(C22,F22,H22,J22,L22,N22)) -> 0
A23: 新居浜市 | B23: =東予地区①!C21 -> 9470 | C23: =東予地区①!D21 -> 0 | E23: =東予地区①!G21 -> 5280 | F23: =東予地区①!H21 -> 0 | G23: =東予地区①!L21 -> 5950 | H23: =東予地区①!N21 -> 0 | I23: =東予地区①!P21 -> 1470 | J23: =東予地区①!Q21 -> 0 | K23: =東予地区①!S21 -> 170 | L23: =東予地区①!U21 -> 0 | M23: =東予地区①!W21 -> 700 | N23: =東予地区①!X21 -> 0 | O23: =SUM(B23,E23,G23,I23,K23,M23) -> 23040 | P23: =IF(サイズ2="","",SUM(C23,F23,H23,J23,L23,N23)) -> 0
A24: 西条市 | B24: =東予地区①!C31 -> 10560 | C24: =東予地区①!D31 -> 0 | E24: =東予地区①!G31 -> 5930 | F24: =東予地区①!H31 -> 0 | G24: =東予地区①!L31 -> 2430 | H24: =東予地区①!N31 -> 0 | I24: =東予地区①!P31 -> 1210 | J24: =東予地区①!Q31 -> 0 | K24: =東予地区①!S31 -> 140 | L24: =東予地区①!U31 -> 0 | M24: =東予地区①!W31 -> 510 | N24: =東予地区①!X31 -> 0 | O24: =SUM(B24,E24,G24,I24,K24,M24) -> 20780 | P24: =IF(サイズ2="","",SUM(C24,F24,H24,J24,L24,N24)) -> 0
A25: 今治市 | B25: =東予地区②!C17 -> 14320 | C25: =東予地区②!D17 -> 0 | E25: =東予地区②!G17 -> 6560 | F25: =東予地区②!H17 -> 0 | G25: =東予地区②!L17 -> 5730 | H25: =東予地区②!N17 -> 0 | I25: =東予地区②!P17 -> 1560 | J25: =東予地区②!Q17 -> 0 | K25: =東予地区②!S17 -> 370 | L25: =東予地区②!U17 -> 0 | M25: =東予地区②!W17 -> 1160 | N25: =東予地区②!X17 -> 0 | O25: =SUM(B25,E25,G25,I25,K25,M25) -> 29700 | P25: =IF(サイズ2="","",SUM(C25,F25,H25,J25,L25,N25)) -> 0
A26: 今治市（島嶼郡） | B26: =東予地区②!C32 -> 2200 | C26: =東予地区②!D32 -> 0 | E26: =東予地区②!G32 -> 620 | F26: =東予地区②!H32 -> 0 | G26: =東予地区②!L32 -> 300 | H26: =東予地区②!N32 -> 0 | I26: =東予地区②!P32 -> 50 | J26: =東予地区②!Q32 -> 0 | K26: =東予地区②!S32 -> 0 | L26: =東予地区②!U32 -> 0 | M26: =東予地区②!W32 -> 150 | N26: =東予地区②!X32 -> 0 | O26: =SUM(B26,E26,G26,I26,K26,M26) -> 3320 | P26: =IF(サイズ2="","",SUM(C26,F26,H26,J26,L26,N26)) -> 0
A27: 越智郡（島嶼郡） | B27: =東予地区②!C40 -> 450 | C27: =東予地区②!D40 -> 0 | E27: =東予地区②!G40 -> 290 | F27: =東予地区②!H40 -> 0 | G27: =東予地区②!L40 -> 570 | H27: =東予地区②!N40 -> 0 | O27: =SUM(B27,E27,G27,I27,K27,M27) -> 1310 | P27: =IF(サイズ2="","",SUM(C27,F27,H27,J27,L27,N27)) -> 0
A28: 越智郡（島嶼郡）（中国） | M28: =東予地区②!W40 -> 230 | N28: =東予地区②!X40 -> 0 | O28: =SUM(B28,E28,G28,I28,K28,M28) -> 230 | P28: =IF(サイズ2="","",SUM(C28,F28,H28,J28,L28,N28)) -> 0
A29: 愛媛県合計 | B29: =SUM(B9:B28) -> 164070 | C29: =IF(サイズ2="","",SUM(C9:C28)) -> 0 | E29: =SUM(E9:E28) -> 43610 | F29: =IF(サイズ2="","",SUM(F9:F28)) -> 0 | G29: =SUM(G9:G28) -> 42270 | H29: =IF(サイズ2="","",SUM(H9:H28)) -> 0 | I29: =SUM(I9:I28) -> 8960 | J29: =IF(サイズ2="","",SUM(J9:J28)) -> 0 | K29: =SUM(K9:K28) -> 3680 | L29: =IF(サイズ2="","",SUM(L9:L28)) -> 0 | M29: =SUM(M9:M27) -> 9950 | N29: =IF(サイズ2="","",SUM(N9:N26)) -> 0 | O29: =SUM(O9:O28) -> 272770 | P29: =IF(サイズ2="","",SUM(C29,F29,H29,J29,L29,N29,N28)) -> 0
A30: 松山市①② | B30: =B9 -> 59720 | C30: =IF(サイズ2="","",C9) -> 0 | E30: =E9 -> 13180 | F30: =IF(サイズ2="","",F9) -> 0 | G30: =G9 -> 14020 | H30: =IF(サイズ2="","",H9) -> 0 | I30: =I9 -> 2690 | J30: =IF(サイズ2="","",J9) -> 0 | K30: =K9 -> 1910 | L30: =IF(サイズ2="","",L9) -> 0 | M30: =M9 -> 4650 | N30: =IF(サイズ2="","",N9) -> 0 | O30: =SUM(B30,E30,G30,I30,K30,M30) -> 96170 | P30: =IF(サイズ2="","",SUM(C30,F30,H30,J30,L30,N30)) -> 0
A31: その他合計 | B31: =SUM(B10:B28) -> 104350 | C31: =IF(サイズ2="","",SUM(C10:C28)) -> 0 | E31: =SUM(E10:E28) -> 30430 | F31: =IF(サイズ2="","",SUM(F10:F28)) -> 0 | G31: =SUM(G10:G28) -> 28250 | H31: =IF(サイズ2="","",SUM(H10:H28)) -> 0 | I31: =SUM(I10:I28) -> 6270 | J31: =IF(サイズ2="","",SUM(J10:J28)) -> 0 | K31: =SUM(K10:K28) -> 1770 | L31: =IF(サイズ2="","",SUM(L10:L28)) -> 0 | M31: =SUM(M10:M28) -> 5530 | N31: =IF(サイズ2="","",SUM(N10:N28)) -> 0 | O31: =SUM(B31,E31,G31,I31,K31,M31) -> 176600 | P31: =IF(サイズ2="","",SUM(C31,F31,H31,J31,L31,N31)) -> 0
A32: 愛媛県金額 | B32: =IF(サイズ2="","",HLOOKUP(サイズ2,$E$36:$J$41,2,0)*C30+HLOOKUP(サイズ2,$E$36:$J$41,3,0)*C31+HLOOKUP(サイズ2,$E$36:$J$41,4,0)*C29) -> #N/A | E32: =IF(サイズ2="","",HLOOKUP(サイズ2,$E$36:$J$41,5,0)*F29+HLOOKUP(サイズ2,$E$36:$J$41,6,0)*F29) -> #N/A | G32: =IF(サイズ2="","",HLOOKUP(サイズ2,$E$36:$J$41,5,0)*H29+HLOOKUP(サイズ2,$E$36:$J$41,6,0)*H29) -> #N/A | I32: =IF(サイズ2="","",HLOOKUP(サイズ2,$E$36:$J$41,5,0)*J29+HLOOKUP(サイズ2,$E$36:$J$41,6,0)*J29) -> #N/A | K32: =IF(サイズ2="","",HLOOKUP(サイズ2,$E$36:$J$41,5,0)*L29+HLOOKUP(サイズ2,$E$36:$J$41,6,0)*L29) -> #N/A | M32: =IF(サイズ2="","",HLOOKUP(サイズ2,$E$36:$J$41,5,0)*(N29+N28)+HLOOKUP(サイズ2,$E$36:$J$41,6,0)*(N29+N28)) -> #N/A | O32: =IF(サイズ2="","",INT(SUM(B32:N32)))+B48 -> #N/A
A33: ※販売店の区域と行政区域は一致していない場合があります。
A35: 県 名 | B35: 新 聞 名 | C35: 地 域 | E35: 折 込 単 価 （ 税 別 ） | K35: 備 考
D36: - | E36: Ａ４ | F36: Ｂ５ | G36: Ｂ４ | H36: Ｂ３ | I36: Ｂ２ | J36: Ｂ４厚紙
A37: 愛 媛 県 | B37: 愛媛新聞 | C37: 松山市①② | E37: 3.5 | F37: 3.5 | G37: 3.5 | H37: 5.2 | I37: 9.5 | J37: 3.7 | K37: ・2023年4月より、配送管理料が別途必要です。 （左記以外のサイズについては別途お問合せ下さい） ・今治市（島嶼郡）・越智郡は、現地配送料として Ｂ４＠２０銭、Ｂ３＠４０銭、Ｂ２＠６０銭加算されます。
C38: 上記以外 | E38: 3.5 | F38: 3.5 | G38: 3.5 | H38: 5 | I38: 9 | J38: 3.7
C39: 配送管理料 | E39: 0.2 | F39: 0.2 | G39: 0.2 | H39: 0.2 | I39: 0.2 | J39: 0.2
B40: 全国紙 全域 | C40: 愛媛県下 | E40: 3.5 | F40: 3.5 | G40: 3.5 | H40: 5 | I40: 9 | J40: 3.7
C41: 配送管理料 | E41: 0.2 | F41: 0.2 | G41: 0.2 | H41: 0.2 | I41: 0.2 | J41: 0.2
E42: 上記料金には消費税は含まれておりません。 | P42: =B5 -> 2025年10月現在②
A45: 今治市（鳥嶼郡）・越智郡の現地配送料 | C45: サイズ | E45: =市郡別!サイズ2 -> -
A48: 配送料 | B48: =ROUNDUP(市郡別!C48*VLOOKUP(E45,A52:B59,2,FALSE),0) -> #N/A | C48: =P26+P27+P28 -> 0
...

Sheet 松山市
A1: 折込指定日 | F1: ページ合計／折込総合計 | M1: サイズ | O1: 広告主名(チラシ表記の名称) | T1: タイトル等(詳しく記入)
A2: =市郡別!A3 -> 0 | F2: =SUM(D44,H44,N44,Q44,U44,X44) -> 0 | I2: =市郡別!P29 -> 0 | M2: =市郡別!G3 -> - | O2: =市郡別!I3 -> 0 | T2: =市郡別!L3 -> 0
A4: 地区 | B4: 愛 媛 新 聞 | E4: 読 売 新 聞 | I4: 朝 日 新 聞 | O4: 毎 日 新 聞 | R4: 産 経 新 聞 | V4: 日 経 新 聞
B5: 店 名 | C5: 部 数 | D5: 配布数 | E5: 店 名 | G5: 部 数 | H5: 配布数 | I5: 店 名 | L5: 部 数 | N5: 配布数 | O5: 店 名 | P5: 部 数 | Q5: 配布数 | R5: 店 名 | S5: 部 数 | U5: 配布数 | V5: 店 名 | W5: 部 数 | X5: 配布数
A6: 松 山 市 ① | B6: 道後 | C6: 1580 | E6: 城南 | G6: 1450 | I6: 松山中央（合） | L6: - | O6: 中央(合) | P6: - | R6: 松山 | S6: 1300 | V6: 松山中央（朝） | W6: -
B7: 八坂･福音寺(合) | C7: 3650 | E7: 東部 | G7: 1800 | I7: 道後(合） | L7: 1850 | O7: 道後 | P7: 150 | R7: 道後 | S7: 40 | V7: 道後（朝) | W7: 940
B8: 桑原（合） | C8: 2930 | E8: 清水（愛） | G8: 50 | I8: 城北(合） | L8: 1200 | O8: 城北 | P8: 100 | R8: 城北 | S8: 40 | V8: 城北（朝） | W8: 570
B9: 番町（合） | C9: 2070 | E9: 潮見（愛） | G9: 30 | I9: 余土（合） | L9: 800 | O9: 東部 | P9: 150 | R9: 清水（愛） | S9: 20 | V9: 余土（朝） | W9: 160
B10: 雄郡（合） | C10: 3400 | E10: 松山西 | G10: 1350 | I10: 松山南（合） | L10: 2650 | O10: 八坂･福音寺(愛) | P10: 30 | R10: 潮見（愛） | S10: 10 | V10: 松山南（朝） | W10: 500
B11: 竹原（合） | C11: 1930 | E11: 南 | G11: 500 | I11: 松山城東（合） | L11: 1550 | O11: 番町（愛） | P11: 110 | R11: 奥道後（愛） | S11: 20 | V11: 中央（毎） | W11: -
B12: 味酒 | C12: - | E12: 椿 | G12: 500 | I12: 奥道後（愛） | L12: 100 | O12: 雄郡（愛） | P12: 180 | R12: 粟井(堀江)(愛) | S12: 10 | V12: 松山城東（朝） | W12: 200
B13: 清水（合） | C13: 3860 | E13: 和気 | G13: 1300 | I13: 伊台（愛） | L13: - | O13: 竹原（愛） | P13: 70 | R13: 三津 | S13: 200 | V13: 八坂･福音寺(愛) | W13: 80
B14: 保免（合） | C14: 3110 | E14: 堀江 | G14: （和気へ） | I14: 清水（愛） | L14: 10 | O14: 保免（愛） | P14: 90 | R14: 西部 | S14: 180 | V14: 桑原(愛) | W14: 90
B15: 潮見（合） | C15: 1460 | E15: 三津 | G15: 1250 | I15: 潮見（愛） | L15: 20 | O15: 奥道後（愛） | P15: 40 | R15: 南部 | S15: 40 | V15: 番町(愛) | W15: 140
B16: 奥道後（合） | C16: 1980 | E16: 城西 | G16: 900 | I16: 三津（合） | L16: 2350 | O16: 伊台（愛） | P16: - | R16: 垣生（愛） | S16: 10 | V16: 雄郡（愛） | W16: 200
B17: 堀江（合） | C17: - | E17: 石井 | G17: 1300 | I17: 西部（合） | L17: 1350 | O17: 潮見（愛） | P17: 10 | R17: 北条（読） | S17: 30 | V17: 竹原（愛） | W17: 70
B18: 和気 | C18: （松山城西へ） | E18: 道後東 | G18: 850 | I18: 松山東（合） | L18: （平井へ） | O18: 三津 | P18: 90 | R18: 中島 | S18: 10 | V18: 保免(愛) | W18: 90
B19: 松山城西（合） | C19: 4770 | E19: 久米 | G19: 550 | I19: 平井（愛） | L19: 400 | O19: 松山北 | P19: 500 | V19: 奥道後(愛) | W19: 70
B20: 衣山 | C20: 700 | E20: 平井 | G20: 500 | I20: 久米（合） | L20: 1200 | O20: 垣生（愛） | P20: 70 | V20: 伊台（愛） | W20: -
B21: 伊台 | C21: - | E21: 松山北 | G21: （松山東へ） | I21: 荏原（砥部） | L21: - | O21: 平井 | P21: 80 | V21: 三津（朝） | W21: 450
B22: 三津東 | C22: 2380 | E22: 朝生田 | G22: （椿へ） | I22: 久谷（愛） | L22: 10 | O22: 久米 | P22: 630 | V22: 西部（朝） | W22: 280
B23: 三津西 | C23: 1520 | E23: 北条（合） | G23: 800 | I23: 荏原（愛） | L23: 70 | O23: 南部 | P23: 190 | V23: 松山東（朝） | W23: （平井へ）
B24: 味生（合） | C24: 2310 | E24: 中島 | G24: 50 | I24: 北条東(愛) | L24: 200 | O24: 清水（愛） | P24: 40 | V24: 平井（愛） | W24: 110
B25: 垣生（合） | C25: 2600 | I25: 北条南(愛) | L25: 110 | O25: 味生（愛） | P25: 40 | V25: 久米（朝） | W25: 240
B26: 平井 | C26: 1980 | I26: 粟井(堀江)(愛) | L26: 130 | O26: 石井南（愛） | P26: 20 | V26: 清水（愛） | W26: 30
B27: 福音寺（合） | C27: - | I27: 中島 | L27: 20 | O27: 北条東(愛) | P27: 30 | V27: 味生（愛） | W27: 10
B28: 久米 | C28: 2710 | O28: 北条南(愛) | P28: 20 | V28: 潮見（愛） | W28: 20
B29: 久谷（合） | C29: 310 | O29: 粟井(堀江)(愛) | P29: 40 | V29: 垣生（愛） | W29: 50
B30: 荏原（合） | C30: 1130 | O30: 中島 | P30: 10 | V30: 福音寺（愛） | W30: -
B31: 森松（合） | C31: 1200 | V31: 久谷（愛） | W31: 10
B32: 石井東（合） | C32: 3520 | V32: 荏原（愛） | W32: 40
B33: 石井西（合） | C33: - | V33: 森松（愛） | W33: 30
B34: 石井南（合） | C34: 2720 | V34: 石井東（愛） | W34: 70
B35: 北条東 | C35: 2230 | V35: 石井西（愛） | W35: -
B36: 北条南 | C36: 820 | V36: 石井南（愛） | W36: 60
B37: 粟井（堀江）（合） | C37: 2250 | V37: 北条東（愛） | W37: 70
B38: 中 島 | C38: 600 | V38: 北条南（愛） | W38: 30
V39: 粟井（愛） | W39: 40
A44: =SUM(C44+G44+L44+P44+S44+W44) -> 96170 | B44: 計 | C44: =SUM(C6:C43) -> 59720 | D44: =SUM(D6:D43) -> 0 | E44: 計 | G44: =SUM(G6:G43) -> 13180 | H44: =SUM(H6:H43) -> 0 | I44: 計 | L44: =SUM(L6:M43) -> 14020 | N44: =SUM(N6:N43) -> 0 | O44: 計 | P44: =SUM(P6:P43) -> 2690 | Q44: =SUM(Q6:Q43) -> 0 | R44: 計 | S44: =SUM(S6:T43) -> 1910 | U44: =SUM(U6:U43) -> 0 | V44: 計 | W44: =SUM(W6:W43) -> 4650 | X44: =SUM(X6:X43) -> 0
W45: =市郡別!P42 -> 2025年10月現在②

Sheet 中予地区
A1: 折込指定日 | F1: ページ合計／折込総合計 | M1: サイズ | O1: 広告主名(チラシ表記の名称) | T1: タイトル等(詳しく記入)
A2: =市郡別!A3 -> 0 | F2: =SUM(D45,H45,N45,Q45,U45,X45) -> 0 | I2: =市郡別!P29 -> 0 | M2: =市郡別!G3 -> - | O2: =市郡別!I3 -> 0 | T2: =市郡別!L3 -> 0
A4: 地区 | B4: 愛 媛 新 聞 | E4: 読 売 新 聞 | I4: 朝 日 新 聞 | O4: 毎 日 新 聞 | R4: 産 経 新 聞 | V4: 日 経 新 聞
B5: 店 名 | C5: 部 数 | D5: 配布数 | E5: 店 名 | G5: 部 数 | H5: 配布数 | I5: 店 名 | L5: 部 数 | N5: 配布数 | O5: 店 名 | P5: 部 数 | Q5: 配布数 | R5: 店 名 | S5: 部 数 | U5: 配布数 | V5: 店 名 | W5: 部 数 | X5: 配布数
A6: 東温市 | B6: 東温（合） | C6: 4520 | E6: 東温（合） | G6: 800 | I6: 東温（愛） | L6: 550 | O6: 東温（愛） | P6: 60 | R6: 東温（読） | S6: 10 | V6: 東温（愛） | W6: 190
A9: =SUM(C9+G9+L9+P9+S9+W9) -> 6130 | B9: 計 | C9: =SUM(C6:C8) -> 4520 | D9: =SUM(D6:D8) -> 0 | E9: 計 | G9: =SUM(G6:G8) -> 800 | H9: =SUM(H6:H8) -> 0 | I9: 計 | L9: =SUM(L6:L8) -> 550 | N9: =SUM(N6:N8) -> 0 | O9: 計 | P9: =SUM(P6:P8) -> 60 | Q9: =SUM(Q6:Q8) -> 0 | R9: 計 | S9: =SUM(S6:S8) -> 10 | U9: =SUM(U6:U8) -> 0 | V9: 計 | W9: =SUM(W6:W8) -> 190 | X9: =SUM(X6:X8) -> 0
A10: 伊予市 | B10: 伊予東 | C10: 4230 | E10: 伊 予（合） | G10: 600 | I10: 伊予（合） | L10: 650 | O10: 伊予（朝） | P10: 30 | R10: 伊 予(読） | S10: 30 | V10: 伊予（朝） | W10: 180
B11: 伊予南 | C11: （伊予東へ）
B13: 上灘（合） | C13: （中山へ） | E13: 上 灘 | G13: 50 | I13: 上灘（愛） | L13: （中山へ） | V13: 上灘（愛） | W13: （中山へ）
B14: 下灘（合） | C14: 230 | I14: 下灘（愛） | L14: 20 | V14: 下灘（愛） | W14: 10
B15: 中山（合） | C15: 1040 | E15: 中 山(愛) | G15: 10 | I15: 中山（愛） | L15: 40 | V15: 中山（愛） | W15: 20
B16: 佐礼谷(合) | C16: （中山へ） | E16: 佐礼谷(愛) | G16: （中山へ）
A17: =SUM(C17+G17+L17+P17+S17+W17) -> 7140 | B17: 計 | C17: =SUM(C10:C16) -> 5500 | D17: =SUM(D10:D16) -> 0 | E17: 計 | G17: =SUM(G10:G16) -> 660 | H17: =SUM(H10:H16) -> 0 | I17: 計 | L17: =SUM(L10:L15) -> 710 | N17: =SUM(N10:N16) -> 0 | O17: 計 | P17: =SUM(P10:P12) -> 30 | Q17: =SUM(Q10:Q12) -> 0 | R17: 計 | S17: =SUM(S10:S12) -> 30 | U17: =SUM(U10:U12) -> 0 | V17: 計 | W17: =SUM(W10:W15) -> 210 | X17: =SUM(X10:X16) -> 0
A18: 伊予郡 | B18: 広田 | C18: 110 | I18: 広田(愛） | L18: 10
B19: 砥部 | C19: 2180 | E19: 砥部 | G19: 740 | I19: 砥部（愛） | L19: 190 | O19: 砥部（久米） | P19: 60 | R19: 砥部(愛) | S19: 20 | V19: 砥部（愛） | W19: 50
B20: 砥部北（合） | C20: 810 | I20: 砥部北（愛） | L20: 100 | V20: 砥部北（愛） | W20: 40
B21: 松前 | C21: 4230 | E21: 松 前（合） | G21: 700 | I21: 松前(合) | L21: 750 | O21: 松前（朝） | P21: 90 | R21: 松前(読） | S21: 40 | V21: 松前（朝） | W21: 190
B22: 岡田 | C22: （松前へ）
E23: 北伊予（松前） | G23: （松前へ） | I23: 北伊予（松前） | L23: 100 | O23: 北伊予（松前）（朝） | P23: 10
A24: =SUM(C24+G24+L24+P24+S24+W24) -> 10420 | B24: 計 | C24: =SUM(C18:C23) -> 7330 | D24: =SUM(D18:D23) -> 0 | E24: 計 | G24: =SUM(G18:G23) -> 1440 | H24: =SUM(H18:H23) -> 0 | I24: 計 | L24: =SUM(L18:L23) -> 1150 | N24: =SUM(N18:N23) -> 0 | O24: 計 | P24: =SUM(P18:P23) -> 160 | Q24: =SUM(Q18:Q23) -> 0 | R24: 計 | S24: =SUM(S18:S23) -> 60 | U24: =SUM(U18:U23) -> 0 | V24: 計 | W24: =SUM(W18:W23) -> 280 | X24: =SUM(X18:X23) -> 0
A25: 上浮穴郡 | B25: 久万 | C25: 700 | I25: 久万（合） | L25: 60 | V25: 久万（朝） | W25: 20
B26: 畑野川 | C26: 190
B27: 父二峰 | C27: 130
B28: 柳谷（合） | C28: 80 | E28: 柳谷 | G28: 20 | I28: 柳谷（愛） | L28: -
B29: 美川（合） | C29: 270 | I29: 美川（愛） | L29: 10
B30: 面河 | C30: （美川へ）
A31: =SUM(C31+G31+L31+P31+S31+W31) -> 1480 | B31: 計 | C31: =SUM(C25:C30,C44) -> 1370 | D31: =SUM(D25:D30,D44) -> 0 | E31: 計 | G31: =SUM(G25:G30) -> 20 | H31: =SUM(H25:H30) -> 0 | I31: 計 | L31: =SUM(L25:L30) -> 70 | N31: =SUM(N25:N30) -> 0 | S31: =SUM(S25:S30) -> 0 | U31: =SUM(U25:U30) -> 0 | V31: 計 | W31: =SUM(W25:W30) -> 20 | X31: =SUM(X25:X30) -> 0
A44: ページ合計
A45: =SUM(C45,G45,L45,P45,S45,W45) -> 25170 | B45: 計 | C45: =SUM(C9,C17,C24,C31,C44) -> 18720 | D45: =SUM(D9,D17,D24,D31,D44) -> 0 | E45: 計 | G45: =SUM(G9,G17,G24,G31) -> 2920 | H45: =SUM(H9,H17,H24,H31) -> 0 | I45: 計 | L45: =SUM(L9,L17,L24,L31) -> 2480 | N45: =SUM(N9,N17,N24,N31) -> 0 | O45: 計 | P45: =SUM(P9,P17,P24) -> 250 | Q45: =SUM(Q9,Q17,Q24) -> 0 | R45: 計 | S45: =SUM(S9,S17,S24) -> 100 | U45: =SUM(U9,U17,U24) -> 0 | V45: 計 | W45: =SUM(W9,W17,W24,W31) -> 700 | X45: =SUM(X9,X17,X24,X31) -> 0
W46: =市郡別!P42 -> 2025年10月現在②

Sheet 南予地区①
A1: 折込指定日 | F1: ページ合計／折込総合計 | M1: サイズ | O1: 広告主名(チラシ表記の名称) | T1: タイトル等(詳しく記入)
A2: =市郡別!A3 -> 0 | F2: =SUM(D46,H46,N46,Q46,U46,X46) -> 0 | I2: =市郡別!P29 -> 0 | M2: =市郡別!G3 -> - | O2: =市郡別!I3 -> 0 | T2: =市郡別!L3 -> 0
A4: 地区 | B4: 愛 媛 新 聞 | E4: 読 売 新 聞 | I4: 朝 日 新 聞 | O4: 毎 日 新 聞 | R4: 産 経 新 聞 | V4: 日 経 新 聞
B5: 店 名 | C5: 部 数 | D5: 配布数 | E5: 店 名 | G5: 部 数 | H5: 配布数 | I5: 店 名 | L5: 部 数 | N5: 配布数 | O5: 店 名 | P5: 部 数 | Q5: 配布数 | R5: 店 名 | S5: 部 数 | U5: 配布数 | V5: 店 名 | W5: 部 数 | X5: 配布数
A6: 喜多郡 | B6: 五十崎(合) | C6: 770 | I6: 五十崎（愛） | L6: 40 | O6: 五十崎（愛） | P6: 20 | R6: 五十崎（愛） | S6: 10 | V6: 五十崎（愛） | W6: 20
B7: 内子(合) | C7: 1200 | E7: 内子 | G7: 160 | I7: 内子（愛） | L7: 60 | O7: 内子（愛） | P7: 30 | R7: 内子（愛） | S7: 20 | V7: 内子（愛） | W7: 40
B8: 大瀬(合) | C8: 290 | I8: 大瀬（愛） | L8: 10 | V8: 大瀬（愛） | W8: 10
B9: 小田 | C9: 430 | I9: 小田（合） | L9: 10 | V9: 小田（愛） | W9: 10
A10: =SUM(C10+G10+L10+P10+S10+W10) -> 3130 | B10: 計 | C10: =SUM(C6:C9) -> 2690 | D10: =SUM(D6:D9) -> 0 | E10: 計 | G10: =SUM(G7:G9) -> 160 | H10: =SUM(H7:H9) -> 0 | I10: 計 | L10: =SUM(L6:L9) -> 120 | N10: =SUM(N6:N9) -> 0 | O10: 計 | P10: =SUM(P6:P9) -> 50 | Q10: =SUM(Q6:Q9) -> 0 | R10: 計 | S10: =SUM(S6:T9) -> 30 | U10: =SUM(U6:U9) -> 0 | V10: 計 | W10: =SUM(W6:W9) -> 80 | X10: =SUM(X6:X9) -> 0
A11: 大 洲 市 | B11: 八多喜 | C11: 460 | I11: 八多喜(合) | L11: 30 | V11: 八多喜(朝) | W11: 10
B12: 大洲 | C12: 2960 | E12: 大洲 | G12: 830 | I12: 大洲(愛) | L12: 890 | O12: 大洲 | P12: 80 | R12: 大洲 | S12: 70 | V12: 大洲(愛) | W12: 110
B13: 平野 | C13: 400 | I13: 平野(愛) | L13: 80 | V13: 平野(愛) | W13: 10
B14: 菅田(合) | C14: 960 | I14: 菅田(愛) | L14: 100 | V14: 菅田(愛) | W14: 20
B15: 新谷 | C15: （大洲へ） | E15: 新谷 | G15: （大洲へ） | I15: 徳の森(合) | L15: (大洲へ) | V15: 徳の森（朝） | W15: -
B16: 大川(合) | C16: 120 | I16: 大川(愛) | L16: - | V16: 大川(愛) | W16: -
B17: 長浜 | C17: 820 | E17: 長浜(合) | G17: 170 | I17: 長浜(読) | L17: 40 | O17: 長浜(読) | P17: 20 | R17: 長浜(読） | S17: 20 | V17: 長浜（読） | W17: 50
B18: 長浜白滝（合） | C18: 210 | I18: 長浜白滝(愛) | L18: 10 | V18: 長浜白滝(愛） | W18: 10
B19: 鹿野川 | C19: 310 | I19: 鹿野川（愛） | L19: 10 | V19: 鹿野川（愛） | W19: 10
B20: 河辺 | C20: 80 | I20: 河辺（愛） | L20: 10
A21: =SUM(C21+G21+L21+P21+S21+W21) -> 8900 | B21: 計 | C21: =SUM(C11:C20) -> 6320 | D21: =SUM(D11:D20) -> 0 | E21: 計 | G21: =SUM(G12:G17) -> 1000 | H21: =SUM(H11:H17) -> 0 | I21: 計 | L21: =SUM(L11:M20) -> 1170 | N21: =SUM(N11:N20) -> 0 | O21: 計 | P21: =SUM(P12:P17) -> 100 | Q21: =SUM(Q11:Q17) -> 0 | R21: 計 | S21: =SUM(S12:S17) -> 90 | U21: =SUM(U11:U19) -> 0 | V21: 計 | W21: =SUM(W11:W19) -> 220 | X21: =SUM(X11:X20) -> 0
A22: 八幡浜市 | B22: 八幡浜東（合） | C22: 2050 | E22: 八幡浜(合) | G22: 750 | I22: 八幡浜東(愛) | L22: 240 | O22: 八幡浜 | P22: - | R22: 八幡浜（読） | S22: 50 | V22: 八幡浜(朝) | W22: -
B23: 八幡浜南（合） | C23: 1710 | I23: 八幡浜南(愛) | L23: 170 | O23: 八幡浜東(愛) | P23: 70 | V23: 八幡浜東(愛) | W23: 100
B24: 日土(合) | C24: 250 | I24: 日土(愛) | L24: 20 | O24: 八幡浜南(愛) | P24: 50 | V24: 八幡浜南(愛) | W24: 50
B25: 保内(合) | C25: 1700 | E25: 保内川之石 | G25: 150 | I25: 保内(愛) | L25: 80 | O25: 保内（愛） | P25: 50 | V25: 保内(愛) | W25: 70
D26: =C26 -> 0
A27: =SUM(C27+G27+L27+P27+S27+W27) -> 7560 | B27: 計 | C27: =SUM(C22:C26) -> 5710 | D27: =SUM(D22:D26) -> 0 | E27: 計 | G27: =SUM(G22:G25) -> 900 | H27: =SUM(H22:H25) -> 0 | I27: 計 | L27: =SUM(L22:L25) -> 510 | N27: =SUM(N22:N25) -> 0 | O27: 計 | P27: =SUM(P22:P25) -> 170 | Q27: =SUM(Q22:Q25) -> 0 | R27: 計 | S27: =SUM(S22:S24) -> 50 | U27: =SUM(U22:U26) -> 0 | V27: 計 | W27: =SUM(W22:W25) -> 220 | X27: =SUM(X22:X26) -> 0
A28: 西宇和郡 | B28: 伊方(合) | C28: 600 | E28: 伊方（愛） | G28: 30 | I28: 伊方(愛) | L28: 20 | O28: 伊方(愛) | P28: 20 | R28: 伊方(愛) | S28: 10 | V28: 伊方(愛) | W28: 20
B29: 町見(合) | C29: 280 | E29: 町見（愛） | G29: 10 | I29: 町見(愛) | L29: 10 | V29: 町見(愛) | W29: 10
B30: 三机(合) | C30: 300 | I30: 三机(愛) | L30: 20 | V30: 三机(愛) | W30: 10
B31: 三崎（合） | C31: 480 | E31: 三崎（愛） | G31: 20 | I31: 三崎(愛) | L31: 20 | V31: 三崎(愛) | W31: 10
A32: =SUM(C32+G32+L32+P32+S32+W32) -> 1870 | B32: 計 | C32: =SUM(C28:C31) -> 1660 | D32: =SUM(D28:D31) -> 0 | G32: =SUM(G28:G31) -> 60 | H32: =SUM(H28:H31) -> 0 | I32: 計 | L32: =SUM(L28:L31) -> 70 | N32: =SUM(N28:N31) -> 0 | O32: 計 | P32: =SUM(P28:P31) -> 20 | Q32: =SUM(Q28:Q31) -> 0 | R32: 計 | S32: =SUM(S28:S31) -> 10 | U32: =SUM(U28:U31) -> 0 | V32: 計 | W32: =SUM(W28:W31) -> 50 | X32: =SUM(X28:X31) -> 0
A33: 西 予 市 | B33: 三瓶 | C33: 1280 | E33: 三瓶 | G33: 160 | I33: 三瓶 | L33: 140 | O33: 三瓶(愛） | P33: 40 | R33: 三瓶(愛) | S33: 20 | V33: 三瓶(愛) | W33: 30
B34: 卯之町（合） | C34: 2970 | E34: 卯之町 | G34: 450 | I34: 卯之町(合) | L34: 220 | R34: 卯之町(朝) | S34: 20 | V34: 卯之町(朝) | W34: 70
B35: 宇和中川(合) | C35: - | I35: 卯之町(愛) | L35: 30 | V35: 卯之町(愛） | W35: 20
B36: 明浜（合） | C36: 560 | I36: 明浜（愛） | L36: 100 | V36: 明浜(愛) | W36: 10
B37: 高山(合) | C37: （明浜へ） | E37: 高山 | G37: 70 | I37: 高山(愛) | L37: - | V37: 高山(愛) | W37: （明浜へ）
B38: 野村（合） | C38: 1490 | E38: 野村(合) | G38: 200 | I38: 野村(合) | L38: 80 | R38: 野村(読） | S38: 10 | V38: 野村(朝) | W38: 30
B39: 惣川(合) | C39: - | I39: 野村(愛) | L39: - | V39: 野村(愛) | W39: -
B40: 城川（合） | C40: 580 | I40: 城川（愛） | L40: 20 | V40: 城川 (愛) | W40: 10
B41: 宇和土居（合） | C41: - | I41: 宇和土居(愛) | L41: - | V41: 宇和土居 (愛) | W41: -
...

Sheet 南予地区②
A1: 折込指定日 | F1: ページ合計／折込総合計 | M1: サイズ | O1: 広告主名(チラシ表記の名称) | T1: タイトル等(詳しく記入)
A2: =市郡別!A3 -> 0 | F2: =SUM(D48,H48,N48,Q48,U48,X48) -> 0 | I2: =市郡別!P29 -> 0 | M2: =市郡別!G3 -> - | O2: =市郡別!I3 -> 0 | T2: =市郡別!L3 -> 0
A4: 地区 | B4: 愛 媛 新 聞 | E4: 読 売 新 聞 | I4: 朝 日 新 聞 | O4: 毎 日 新 聞 | R4: 産 経 新 聞 | V4: 日 経 新 聞
B5: 店 名 | C5: 部 数 | D5: 配布数 | E5: 店 名 | G5: 部 数 | H5: 配布数 | I5: 店 名 | L5: 部 数 | M5: 配布数 | N5: 配布数 | O5: 店 名 | P5: 部 数 | Q5: 配布数 | R5: 店 名 | S5: 部 数 | U5: 配布数 | V5: 店 名 | W5: 部 数 | X5: 配布数
A6: 宇和島市 | B6: 宇和島中央 | C6: （宇和島西へ） | E6: 宇和島 | G6: 1350 | I6: 宇和島中央(愛) | L6: （宇和島西へ） | O6: 宇和島 | P6: 140 | R6: 宇和島 | S6: 400 | V6: 宇和島中央(愛) | W6: （宇和島西へ）
B7: 宇和島北 | C7: 1580 | I7: 宇和島西 （北支所）（愛） | L7: 80 | V7: 宇和島西 （北支所）（愛） | W7: 50
B8: 宇和島西 | C8: 6320 | I8: 宇和島西（愛） | L8: 330 | V8: 宇和島西（愛） | W8: 210
B9: 宇和島南 | C9: （宇和島西へ）
B10: 宇和島和霊 | C10: （北支所へ）
B11: 津島 | C11: 1710 | E11: 津島（愛） | G11: 40 | I11: 津島（愛） | L11: 260 | V11: 津島（愛） | W11: 40
B12: 吉田 | C12: 1780 | E12: 吉田（合） | G12: 80 | I12: 吉田（愛） | L12: 60 | O12: 吉田（合） | P12: 30 | R12: 吉田（読） | S12: 40 | V12: 吉田（毎） | W12: 40
B13: 三間(合) | C13: 1350 | E13: 三間 | G13: 40 | I13: 三間(愛) | L13: 80 | V13: 三間（愛） | W13: 30
A14: =C14+G14+L14+P14+S14+W14 -> 16040 | B14: 計 | C14: =SUM(C6:C13) -> 12740 | D14: =SUM(D6:D13) -> 0 | E14: 計 | G14: =SUM(G6:G13) -> 1510 | H14: =SUM(H6:H13) -> 0 | I14: 計 | L14: =SUM(L6:L13) -> 810 | N14: =SUM(N6:N13) -> 0 | O14: 計 | P14: =SUM(P6:P13) -> 170 | Q14: =SUM(Q6:Q13) -> 0 | R14: 計 | S14: =SUM(S6:S13) -> 440 | U14: =SUM(U6:U13) -> 0 | V14: 計 | W14: =SUM(W6:W13) -> 370 | X14: =SUM(X6:X13) -> 0
B15: 近永(合) | C15: 1450 | E15: 近永（愛） | G15: 60 | I15: 近永(合) | L15: 50 | V15: 近永(朝) | W15: 20
A16: 鬼北町 | I16: 出目(読) | L16: （近永（愛）へ）
A17: 北宇和郡 | B17: 愛治(合) | C17: （近永へ） | I17: 近永(愛) | L17: 30
I18: 小倉・近永(読) | L18: （近永（愛）へ）
B19: 宇和三島(合) | C19: （近永へ） | V19: 近永(愛) | W19: -
B20: 日吉 | C20: 240 | I20: 日吉(合) | L20: 10 | V20: 日吉(朝) | W20: -
B21: 松丸(合) | C21: 640 | E21: 松丸（愛） | G21: 30 | I21: 松丸(愛) | L21: 20 | V21: 松丸(愛) | W21: 20
A22: 松野町 | B22: 目黒 | C22: 60
A24: =SUM(C24+G24+L24+P24+S24+W24) -> 2630 | B24: 計 | C24: =SUM(C15:C23) -> 2390 | D24: =SUM(D15:D23) -> 0 | E24: 計 | G24: =SUM(G15:G23) -> 90 | H24: =SUM(H15:H23) -> 0 | I24: 計 | L24: =SUM(L15:L23) -> 110 | N24: =SUM(N15:N18,N20:N21,N23) -> 0 | V24: 計 | W24: =SUM(W15:W23) -> 40 | X24: =SUM(X15:X23) -> 0
A26: 南宇和郡 | B26: 内海 | C26: 300 | E26: 内海（愛） | G26: 10
B27: 御荘 | C27: 2740 | E27: 御荘（愛） | G27: 100 | I27: 御荘(合) | L27: 550 | V27: 御荘(朝) | W27: 80
B28: 城辺 | C28: （御荘へ）
B29: 西海 | C29: （御荘へ）
B30: 一本松 | C30: 510 | E30: 一本松（愛） | G30: 20 | I30: 一本松 | L30: 60
A31: =SUM(C31+G31+L31+P31+S31+W31) -> 4370 | B31: 計 | C31: =SUM(C26:C30) -> 3550 | D31: =SUM(D26:D30) -> 0 | E31: 計 | G31: =SUM(G26:G30) -> 130 | H31: =SUM(H26:H30) -> 0 | I31: 計 | L31: =SUM(L26:L30) -> 610 | N31: =SUM(N27,N30) -> 0 | S31: =SUM(S26:S30) -> 0 | U31: =SUM(U26:U30) -> 0 | V31: 計 | W31: =SUM(W26:W30) -> 80 | X31: =SUM(X26:X30) -> 0
A47: ページ合計
A48: =SUM(C48+G48+L48+P48+S48+W48) -> 23040 | B48: 計 | C48: =SUM(C14+C24+C31) -> 18680 | D48: =SUM(D14+D24+D31) -> 0 | E48: 計 | G48: =SUM(G14+G24+G31) -> 1730 | H48: =SUM(H14+H24+H31) -> 0 | I48: 計 | L48: =SUM(L14+L24+L31) -> 1530 | N48: =SUM(N14+N24+N31) -> 0 | O48: 計 | P48: =SUM(P14+P24+P31) -> 170 | Q48: =SUM(Q31+Q24+Q14) -> 0 | R48: 計 | S48: =SUM(S31+S24+S14) -> 440 | U48: =SUM(U14+U24+U31) -> 0 | V48: 計 | W48: =SUM(W14+W24+W31) -> 490 | X48: =SUM(X14+X24+X31) -> 0
W49: =市郡別!P42 -> 2025年10月現在②

Sheet 東予地区①
A1: 折込指定日 | F1: ページ合計／折込総合計 | M1: サイズ | O1: 広告主名(チラシ表記の名称) | T1: タイトル等(詳しく記入)
A2: =市郡別!A3 -> 0 | F2: =SUM(D44,H44,N44,Q44,U44,X44) -> 0 | I2: =市郡別!P29 -> 0 | M2: =市郡別!G3 -> - | O2: =市郡別!I3 -> 0 | T2: =市郡別!L3 -> 0
A4: 地区 | B4: 愛 媛 新 聞 | E4: 読 売 新 聞 | I4: 朝 日 新 聞 | O4: 毎 日 新 聞 | R4: 産 経 新 聞 | V4: 日 経 新 聞
B5: 店 名 | C5: 部 数 | D5: 配布数 | E5: 店 名 | G5: 部 数 | H5: 配布数 | I5: 店 名 | L5: 部 数 | N5: 配布数 | O5: 店 名 | P5: 部 数 | Q5: 配布数 | R5: 店 名 | S5: 部 数 | U5: 配布数 | V5: 店 名 | W5: 部 数 | X5: 配布数
A6: 四国中央市 | B6: 四国中央(川之江) | C6: 2260 | E6: 川之江（合） | G6: 1900 | I6: 四国中央 | L6: 3700 | O6: 四国中央 | P6: 850 | R6: 川之江（読） | S6: 110 | V6: 四国中央(毎) | W6: 260
B7: 金生（三島東） | C7: （川之江へ） | V7: 川之江(読） | W7: 120
B8: 四国中央(東支所) | C8: （四国中央へ） | E8: 三島 | G8: 1100 | I8: 三島（合） | L8: 2400 | O8: 四国中央（愛） | P8: 50 | R8: 三島(川之江) (読) | S8: 120 | V8: 三島(朝) | W8: 340
B9: 四国中央(合) | C9: 1960 | E9: 三島西（合） | G9: 400 | O9: 四国中央西（愛） | P9: 70 | R9: 三島西（読） | S9: 20 | V9: 四国中央西（愛） | W9: 40
B10: 四国中央(西支所) | C10: 1050
B11: 四国中央(土居) | C11: 1420 | E11: 土居 | G11: 700 | I11: 土居 | L11: 700 | O11: 土居(合) | P11: 210 | R11: 三島西(土居)(読) | S11: 50 | V11: 土居(毎) | W11: 90
O12: 旧三島西含む | R12: 土居(毎) | S12: 20 | V12: 旧三島西含む
A13: =SUM(C13+G13+L13+P13+S13+W13) -> 19940 | B13: 計 | C13: =SUM(C6:C12) -> 6690 | D13: =SUM(D6:D12) -> 0 | E13: 計 | G13: =SUM(G6:G11) -> 4100 | H13: =SUM(H6:H12) -> 0 | I13: 計 | L13: =SUM(L6:L11) -> 6800 | N13: =SUM(N6:N12) -> 0 | O13: 計 | P13: =SUM(P6:P11) -> 1180 | Q13: =SUM(Q6:Q12) -> 0 | R13: 計 | S13: =SUM(S6:S12) -> 320 | U13: =SUM(U6:U12) -> 0 | V13: 計 | W13: =SUM(W6:W12) -> 850 | X13: =SUM(X6:X12) -> 0
A14: 新居浜市 | B14: 多喜浜 | C14: （新居浜南へ） | E14: 新居浜東 | G14: 600 | I14: 新居浜北(合) | L14: - | O14: 多喜浜（愛） | P14: (新居浜南(愛)へ) | R14: 新居浜北(朝) | S14: - | V14: 新居浜北(朝) | W14: -
B15: 新居浜東 | C15: - | E15: 新居浜西 | G15: 600 | I15: 新居浜中央(合) | L15: 3200 | O15: 新居浜南（愛） | P15: 350 | R15: 新居浜中央(朝) | S15: 100 | V15: 新居浜中央(朝) | W15: 440
B16: 新居浜中央 | C16: 2530 | E16: 新居浜南 | G16: 1550 | O16: 新居浜中央 | P16: 600
B17: 新居浜南（合） | C17: 4100 | E17: 新居浜北 | G17: 800 | I17: 多喜浜（愛） | L17: （新居浜南(愛)へ） | O17: 新居浜南 | P17: 200 | R17: 多喜浜（愛） | S17: （新居浜南(愛)へ） | V17: 多喜浜（愛） | W17: （新居浜南(愛)へ）
B18: 角野 | C18: （新居浜西へ） | E18: 新 居 浜 中 央 | G18: 400
B19: 新居浜西 | C19: 1860 | E19: 泉川 | G19: 900 | I19: 新居浜南(愛) | L19: 2250 | O19: 新居浜上 | P19: 250 | R19: 新居浜南(愛) | S19: 60 | V19: 新居浜南(愛) | W19: 190
B20: 中萩 | C20: 980 | E20: 中萩（朝） | G20: 430 | I20: 中萩（合） | L20: 500 | O20: 中 萩（愛） | P20: 70 | R20: 中萩(朝) | S20: 10 | V20: 中萩(朝) | W20: 70
A21: =SUM(C21+G21+L21+P21+S21+W21) -> 23040 | B21: 計 | C21: =SUM(C14:C20) -> 9470 | D21: =SUM(D14:D20) -> 0 | E21: 計 | G21: =SUM(G14:G20) -> 5280 | H21: =SUM(H14:H20) -> 0 | I21: 計 | L21: =SUM(L14:L20) -> 5950 | N21: =SUM(N14:N20) -> 0 | O21: 計 | P21: =SUM(P14:P20) -> 1470 | Q21: =SUM(Q14:Q20) -> 0 | R21: 計 | S21: =SUM(S14:T20) -> 170 | U21: =SUM(U14:U20) -> 0 | V21: 計 | W21: =SUM(W14:W20) -> 700 | X21: =SUM(X14:X20) -> 0
A22: 西 条 市 | B22: 西条南 | C22: 1610 | E22: 西条中 | G22: 1000 | I22: いよ西条（読） | L22: 900 | O22: 西条東 | P22: 250 | R22: いよ西条(読) | S22: 50 | V22: いよ西条(読) | W22: 210
B23: 西条東 | C23: - | E23: 西条東 | G23: 850 | I23: 西条東（合） | L23: 300 | O23: 西条中部 | P23: 750 | R23: 西条東(朝) | S23: 10 | V23: 西条東(朝) | W23: 30
B24: 西条西 | C24: 2770 | E24: 西条南 | G24: 400 | I24: 西条南（愛） | L24: 30 | O24: 西条南（愛） | P24: 10 | R24: 西条南（愛） | S24: 10 | V24: 西条南（愛） | W24: 10
E25: 西条 飯岡下島山（朝） | G25: 230 | O25: 西条西（愛） | P25: 10
B26: 小松 | C26: （丹原へ） | E26: 小松 | G26: 450 | I26: 小松(合) | L26: - | O26: 小松（朝） | P26: - | R26: 小松(朝) | S26: - | V26: 小松(朝) | W26: -
B27: 周桑元山（合） | C27: （丹原へ） | O27: 周桑元山（愛） | P27: （丹原へ）
B28: 丹原（合） | C28: 2820 | I28: 丹原（愛） | L28: 500 | O28: 丹原（愛） | P28: 100 | R28: 丹原（愛） | S28: 20 | V28: 丹原（愛） | W28: 110
B29: 東予南 | C29: - | E29: 壬生川南（合） | G29: 1900 | I29: 東予(愛) | L29: 700 | O29: 東予（愛） | P29: 90 | R29: 壬生川南（読） | S29: 30 | V29: 東予(愛) | W29: 150
B30: 東予 | C30: 3360 | E30: 壬生川北（合） | G30: 1100 | R30: 壬生川北（読） | S30: 20
A31: =SUM(C31+G31+L31+P31+S31+W31) -> 20780 | B31: 計 | C31: =SUM(C22:C30) -> 10560 | D31: =SUM(D22:D30) -> 0 | E31: 計 | G31: =SUM(G22:G30) -> 5930 | H31: =SUM(H22:H30) -> 0 | I31: 計 | L31: =SUM(L22:L29) -> 2430 | N31: =SUM(N22:N30) -> 0 | O31: 計 | P31: =SUM(P22:P30) -> 1210 | Q31: =SUM(Q22:Q30) -> 0 | R31: 計 | S31: =SUM(S22:S30) -> 140 | U31: =SUM(U22:U30) -> 0 | V31: 計 | W31: =SUM(W22:W30) -> 510 | X31: =SUM(X22:X30) -> 0
A43: ページ合計
A44: =SUM(C44,G44,L44,P44,S44,W44) -> 63760 | B44: 計 | C44: =SUM(C13,C21,C31) -> 26720 | D44: =SUM(D13,D21,D31) -> 0 | E44: 計 | G44: =SUM(G13,G21,G31) -> 15310 | H44: =SUM(H13,H21,H31) -> 0 | I44: 計 | L44: =SUM(L13,L21,L31) -> 15180 | N44: =SUM(N13,N21,N31) -> 0 | O44: 計 | P44: =SUM(P13,P21,P31) -> 3860 | Q44: =SUM(Q13,Q21,Q31) -> 0 | R44: 計 | S44: =SUM(S13,S21,S31) -> 630 | U44: =SUM(U13,U21,U31) -> 0 | V44: 計 | W44: =SUM(W13,W21,W31) -> 2060 | X44: =SUM(X13,X21,X31) -> 0
W45: =市郡別!P42 -> 2025年10月現在②

Sheet 東予地区②
A1: 折込指定日 | F1: ページ合計／折込総合計 | M1: サイズ | O1: 広告主名(チラシ表記の名称) | T1: タイトル等(詳しく記入)
A2: =市郡別!A3 -> 0 | F2: =SUM(D44,H44,N44,Q44,U44,X44,X40) -> 0 | I2: =市郡別!P29 -> 0 | M2: =市郡別!G3 -> - | O2: =市郡別!I3 -> 0 | T2: =市郡別!L3 -> 0
A4: 地区 | B4: 愛 媛 新 聞 | E4: 読 売 新 聞 | I4: 朝 日 新 聞 | O4: 毎 日 新 聞 | R4: 産 経 新 聞 | V4: 日 経 新 聞
B5: 店 名 | C5: 部 数 | D5: 配布数 | E5: 店 名 | G5: 部 数 | H5: 配布数 | I5: 店 名 | L5: 部 数 | M5: 配布数 | O5: 店 名 | P5: 部 数 | Q5: 配布数 | R5: 店 名 | S5: 部 数 | U5: 配布数 | V5: 店 名 | W5: 部 数 | X5: 配布数
A6: 今 治 市 | B6: 桜井 | C6: 1570 | E6: 桜井 | G6: 1450 | I6: 桜 井(合) | L6: 950 | O6: 桜井（合） | P6: 200 | R6: 桜井（毎） | S6: 10 | V6: 桜 井(朝) | W6: 170
B7: 今治東（島含） | C7: （今治北・南へ） | E7: 今治東(合) | G7: 1200 | I7: 今治中央(合) （島 含） | L7: 2100 | O7: 今治東（合） | P7: 400 | R7: 今治中央(朝) （島 含） | S7: 210 | V7: 今治中央（朝） | W7: 400
B8: 今治北 | C8: 3900 | E8: 今治北(合) | G8: 1050 | I8: 今治南(合) | L8: 1300 | O8: 今治西 | P8: 270 | R8: 今治東（毎） | S8: 100 | V8: 今治南（朝） | W8: 190
B9: 今治南 | C9: 5340 | E9: 今治西 | G9: （今治へ） | I9: 今治北(合) | L9: 950 | O9: 今 治 中 央 （島 含） | P9: 80 | V9: 今治北（朝） | W9: 160
B10: 波止浜（合） | C10: 2820 | E10: 今治(合) | G10: 2200 | I10: 波止浜（読） | L10: 190 | O10: 今治南 | P10: 400 | R10: 波止浜(読) | S10: 40 | V10: 今治北（毎） | W10: （今治中央へ）
O11: 今治北(朝) | P11: 60 | V11: 今治東（読） | W11: -
O12: 波止浜（愛） | P12: 40 | V12: 今治北（読） | W12: 110
O13: 玉川(朝) （今治中央） | P13: 50
B14: 大西 | C14: （波止浜へ） | E14: 大西 | G14: 550 | I14: 波 止 浜 (大 西 分) | L14: 170 | O14: 大西（読） | P14: 30 | V14: 今治（読） | W14: 30
B15: 菊 間（合） | C15: 690 | E15: 菊 間（合） | G15: 110 | I15: 菊 間(合) | L15: 70 | O15: 菊間（愛） | P15: 30 | R15: 菊 間(読) | S15: 10 | V15: 大西（読） | W15: 90
B16: 亀 岡(合) | C16: （波止浜へ） | I16: 亀 岡(愛) | L16: （菊間へ） | O16: 亀岡（愛） | P16: （波止浜(愛)へ） | V16: 菊 間(読) | W16: 10
A17: =SUM(C17+G17+L17+P17+S17+W17) -> 29700 | B17: 計 | C17: =SUM(C6:C16) -> 14320 | D17: =SUM(D6:D16) -> 0 | E17: 計 | G17: =SUM(G6:G15) -> 6560 | H17: =SUM(H6:H16) -> 0 | I17: 計 | L17: =SUM(L6:L16) -> 5730 | N17: =SUM(N6:N16) -> 0 | O17: 計 | P17: =SUM(P6:P16) -> 1560 | Q17: =SUM(Q6:Q16) -> 0 | R17: 計 | S17: =SUM(S6:T15) -> 370 | U17: =SUM(U6:U16) -> 0 | V17: 計 | W17: =SUM(W6:W16) -> 1160 | X17: =SUM(X6:X16) -> 0
A18: 今治市（島嶼部） | B18: 宗 方(合) | C18: 50 | E18: 宗 方（愛） | G18: 20 | I18: 宗 方(愛) | L18: 30 | V18: 宗方（愛） | W18: 10
B19: 口総支所(合) | C19: 50 | E19: 口総支所（愛） | G19: 10 | I19: 口総支所(愛) | L19: 30 | V19: 口総支所(愛) | W19: 10
B20: 野ノ江支所(合) | C20: 70 | E20: 野ノ江 | G20: 20 | I20: 野ノ江(愛) | L20: - | V20: 野ノ江支所(愛) | W20: 10
B21: 宮浦 | C21: 230 | E21: 宮浦 | G21: 40 | I21: 宮 浦（愛） | L21: 30 | O21: 宮 浦(愛) | P21: 20 | V21: 宮 浦(毎) | W21: 20
B22: 盛 口(合) | C22: （瀬戸崎へ） | E22: 井口 | G22: 50 | I22: 盛 口(愛) | L22: （瀬戸崎へ） | V22: 盛 口(愛) | W22: （瀬戸崎へ）
B23: 瀬戸崎(合) | C23: 340 | E23: 瀬戸崎（愛） | G23: 40 | I23: 瀬戸崎(愛) | L23: 60 | V23: 瀬戸崎(愛) | W23: 20
B24: 盛 (合) | C24: 80 | E24: 盛 （愛） | G24: 30 | I24: 盛 (愛) | L24: 10
B25: 大 島(合) | C25: 710 | E25: 大島（愛） | G25: 110 | I25: 大 島(愛) | L25: 100 | V25: 大島（愛） | W25: 30
B26: 名駒 | C26: （大島へ）
B27: 志津見 | C27: - | E27: 宮窪（愛） | G27: （大島へ）
B28: 宮 窪(合) | C28: （大島へ） | E28: 伯方 | G28: 300 | I28: 宮 窪(愛) | L28: （大島へ） | V28: 宮窪（愛） | W28: （大島へ）
B29: 伯 方(合) | C29: 670 | E29: 伯方中央 | G29: （しまなみへ） | I29: 伯方 | L29: 40 | O29: 伯 方(愛) | P29: 30 | V29: 伯 方(愛) | W29: 50
B31: 関前 | C31: 今治東に含む | I31: 関前 | L31: 今治中央に含む | O31: 関前 | P31: 今治中央に含む | R31: 関前 | S31: 今治東に含む
A32: =SUM(C32+G32+L32+P32+S32+W32) -> 3320 | B32: 計 | C32: =SUM(C18:C29) -> 2200 | D32: =SUM(D18:D31) -> 0 | E32: 計 | G32: =SUM(G18:G29) -> 620 | H32: =SUM(H18:H31) -> 0 | I32: 計 | L32: =SUM(L18:L29) -> 300 | N32: =SUM(N18:N31) -> 0 | O32: 計 | P32: =SUM(P21:P29) -> 50 | Q32: =SUM(Q21:Q31) -> 0 | V32: 計 | W32: =SUM(W18:W29) -> 150 | X32: =SUM(X18:X29) -> 0
A34: 今治市合計 | B34: 計 | C34: =SUM(C17,C32) -> 16520 | D34: =SUM(D17,D32) -> 0 | E34: 計 | G34: =SUM(G17,G32) -> 7180 | H34: =SUM(H17,H32) -> 0 | I34: 計 | L34: =SUM(L17,L32) -> 6030 | N34: =SUM(N17,N32) -> 0 | O34: 計 | P34: =SUM(P17,P32) -> 1610 | Q34: =SUM(Q17,Q32) -> 0 | R34: 計 | S34: =SUM(S17) -> 370 | U34: =SUM(U17) -> 0 | V34: 計 | W34: =SUM(W17,W32) -> 1310 | X34: =SUM(X17,X32) -> 0
A36: 越智郡 | B36: 弓削 | C36: 180 | E36: 弓削 | G36: 140 | I36: 弓削 | L36: 270 | V36: 中 国 新 聞
B37: 岩 城(合) | C37: 230 | E37: 岩 城（愛） | G37: 20 | I37: 岩 城(愛) | L37: 130 | V37: 弓削（朝） | W37: 110
E38: 佐 島(愛) | G38: 40 | I38: 佐 島(愛) | L38: 70 | V38: 佐島（読） | W38: 20
A39: (島嶼部） | B39: 生 名(合) | C39: 40 | E39: 生 名（愛） | G39: 90 | I39: 生 名(愛) | L39: 100 | V39: 生名（愛） | W39: 100
A40: =SUM(C40+G40+L40+P40+W40) -> 1540 | B40: 計 | C40: =SUM(C36:C39) -> 450 | D40: =SUM(D36:D39) -> 0 | E40: 計 | G40: =SUM(G36:G39) -> 290 | H40: =SUM(H36:H39) -> 0 | I40: 計 | L40: =SUM(L36:M39) -> 570 | N40: =SUM(N36:N39) -> 0 | V40: 計 | W40: =SUM(W37:W39) -> 230 | X40: =SUM(X37:X39) -> 0
A43: ページ合計
A44: =SUM(C44+G44+L44+P44+S44+W44) -> 34330 | B44: 計 | C44: =SUM(C17,C32,C40) -> 16970 | D44: =SUM(D17,D32,D40) -> 0 | E44: 計 | G44: =SUM(G17,G32,G40) -> 7470 | H44: =SUM(H17,H32,H40) -> 0 | I44: 計 | L44: =SUM(L17,L32,L40) -> 6600 | N44: =SUM(N17,N32,N40) -> 0 | O44: 計 | P44: =SUM(P17,P32) -> 1610 | Q44: =SUM(Q17,Q32) -> 0 | R44: 計 | S44: =SUM(S17,S40) -> 370 | U44: =SUM(U17) -> 0 | V44: 計 | W44: =SUM(W17,W32) -> 1310 | X44: =SUM(X17,X32) -> 0
A45: 県下合計
A46: =SUM(B46:X46,W40) -> 272770 | B46: =松山市!C44+中予地区!C45+南予地区①!C46+南予地区②!C48+東予地区①!C44+東予地区②!C44 -> 164070 | E46: =松山市!G44+中予地区!G45+南予地区①!G46+南予地区②!G48+東予地区①!G44+東予地区②!G44 -> 43610 | I46: =松山市!L44+中予地区!L45+南予地区①!L46+南予地区②!L48+東予地区①!L44+東予地区②!L44 -> 42270 | O46: =松山市!P44+中予地区!P45+南予地区①!P46+南予地区②!P48+東予地区①!P44+東予地区②!P44 -> 8960 | R46: =松山市!S44+中予地区!S45+南予地区①!S46+南予地区②!S48+東予地区①!S44+東予地区②!S44 -> 3680 | V46: =松山市!W44+中予地区!W45+南予地区①!W46+南予地区②!W48+東予地区①!W44+東予地区②!W44 -> 9950
...
