Workbook
Name サイズ1: #REF!
Name サイズ2: 市郡別!$I$4
Name サイズ2: #REF!
Name サイズ3: 高知市!$G$2
Name サイズ4: 高知２!$H$2
Name サイズ5: #REF!
Name タイトル等1: #REF!
Name タイトル等2: #REF!
Name タイトル等3: 高知市!$O$2
Name タイトル等4: 高知２!$R$2
Name タイトル等5: #REF!
Name 郡市別: "図 1"
Name 広告主名1: #REF!
Name 広告主名2: #REF!
Name 広告主名3: 高知市!$K$2
Name 広告主名4: 高知２!$M$2
Name 広告主名5: #REF!
Name 申込者名1: #REF!
Name 申込者名2: #REF!
Name 申込者名3: 高知市!$S$2
Name 申込者名4: 高知２!$T$2
Name 申込者名5: #REF!
Name 折込指定日1: #REF!
Name 折込指定日2: #REF!
Name 折込指定日3: 高知市!#REF!
Name 折込指定日4: 高知２!$A$2
Name 折込指定日5: #REF!
Name 折込総数1: #REF!
Name 折込総数2: #REF!
Name 折込総数3: 高知市!$A$2
Name 折込総数4: 高知２!$D$2
Name 折込総数5: #REF!

Sheet 市郡別
A3: 折込指定日 | B3: 折込総数 | D3: 折込見積金額（税別） | I3: サイズ | K3: 広告主名（チラシ表記の名称） | N3: タイトル等(詳しく記入) | Q3: 申込者名
B4: =IF(サイズ2="","",R30) -> 0 | D4: =IF(サイズ2="-","-",Q33) -> - | I4: -
A6: 高知県折込部数表 | B6: 2025年10月現在
A8: 市、郡 別 | B8: 高 知 新 聞 | D8: 読 売 新 聞 | I8: 朝 日 新 聞 | K8: 毎 日 新 聞 | M8: 産 経 新 聞 | O8: 日 経 新 聞 | Q8: 全 紙 合 計
B9: 総 部 数 | C9: 折 込 数 | D9: 総 部 数 | H9: 折 込 数 | I9: 総 部 数 | J9: 折 込 数 | K9: 総 部 数 | L9: 折 込 数 | M9: 総 部 数 | N9: 折 込 数 | O9: 総 部 数 | P9: 折 込 数 | Q9: 全 紙 部 数 | R9: 全紙折込数
A10: 高知市 | B10: =高知市!F41 -> 55370 | C10: =高知市!G41 -> 0 | D10: =高知市!K41 -> 3370 | H10: =高知市!L41 -> 0 | I10: =高知市!N41 -> 3130 | J10: =高知市!O41 -> 0 | K10: =高知市!Q41 -> 1610 | L10: =高知市!R41 -> 0 | M10: =高知市!T41 -> 800 | N10: =高知市!U41 -> 0 | O10: =高知市!W41 -> 3270 | P10: =高知市!X41 -> 0 | Q10: =SUM(B10,D10,I10,K10,M10,O10) -> 67550 | R10: =IF(サイズ2="","",SUM(C10,H10,J10,L10,N10,P10)) -> 0
A11: 南国市 | B11: =高知２!C13 -> 8360 | C11: =高知２!D13 -> 0 | D11: =高知２!G13 -> 400 | H11: =高知２!H13 -> 0 | I11: =高知２!M13 -> 400 | J11: =高知２!O13 -> 0 | K11: =高知２!Q13 -> 110 | L11: =高知２!R13 -> 0 | M11: =高知２!T13 -> 80 | N11: =高知２!V13 -> 0 | O11: =高知２!X13 -> 410 | P11: =高知２!Y13 -> 0 | Q11: =SUM(B11,D11,I11,K11,M11,O11) -> 9760 | R11: =IF(サイズ2="","",SUM(C11,H11,J11,L11,N11,P11)) -> 0
A12: 香南市 | B12: =高知２!C19 -> 6190 | C12: =高知２!D19 -> 0 | D12: =高知２!G19 -> 200 | H12: =高知２!H19 -> 0 | I12: =高知２!M19 -> 150 | J12: =高知２!O19 -> 0 | K12: =高知２!Q19 -> 0 | L12: =高知２!R19 -> 0 | M12: =高知２!T19 -> 0 | N12: =高知２!V19 -> 0 | O12: =高知２!X19 -> 0 | P12: =高知２!Y19 -> 0 | Q12: =SUM(B12,D12,I12,K12,M12,O12) -> 6540 | R12: =IF(サイズ2="","",SUM(C12,H12,J12,L12,N12,P12)) -> 0
A13: 香美市 | B13: =高知２!C27 -> 5180 | C13: =高知２!D27 -> 0 | D13: =高知２!G27 -> 100 | H13: =高知２!H27 -> 0 | I13: =高知２!M27 -> 450 | J13: =高知２!O27 -> 0 | K13: =高知２!Q27 -> 120 | L13: =高知２!R27 -> 0 | M13: =高知２!T27 -> 60 | N13: =高知２!V27 -> 0 | O13: =高知２!X27 -> 150 | P13: =高知２!Y27 -> 0 | Q13: =SUM(B13,D13,I13,K13,M13,O13) -> 6060 | R13: =IF(サイズ2="","",SUM(C13,H13,J13,L13,N13,P13)) -> 0
A14: 長岡郡 | B14: =高知２!C32 -> 1430 | C14: =高知２!D32 -> 0 | D14: =高知２!G32 -> 0 | H14: =高知２!H32 -> 0 | I14: =高知２!M32 -> 0 | J14: =高知２!O32 -> 0 | K14: =高知２!Q32 -> 0 | L14: =高知２!R32 -> 0 | M14: =高知２!T32 -> 0 | N14: =高知２!V32 -> 0 | O14: =高知２!X32 -> 0 | P14: =高知２!Y32 -> 0 | Q14: =SUM(B14,D14,I14,K14,M14,O14) -> 1430 | R14: =IF(サイズ2="","",SUM(C14,H14,J14,L14,N14,P14)) -> 0
A15: 土佐郡 | B15: =高知２!C35 -> 750 | C15: =高知２!D35 -> 0 | D15: =高知２!G35 -> 120 | H15: =高知２!H35 -> 0 | I15: =高知２!M35 -> 0 | J15: =高知２!O35 -> 0 | K15: =高知２!Q35 -> 0 | L15: =高知２!R35 -> 0 | M15: =高知２!T35 -> 0 | N15: =高知２!V35 -> 0 | O15: =高知２!X35 -> 0 | P15: =高知２!Y35 -> 0 | Q15: =SUM(B15,D15,I15,K15,M15,O15) -> 870 | R15: =IF(サイズ2="","",SUM(C15,H15,J15,L15,N15,P15)) -> 0
A16: 安芸市 | B16: =高知２!C39 -> 3330 | C16: =高知２!D39 -> 0 | D16: =高知２!G39 -> 0 | H16: =高知２!H39 -> 0 | I16: =高知２!M39 -> 0 | J16: =高知２!O39 -> 0 | K16: =高知２!Q39 -> 0 | L16: =高知２!R39 -> 0 | M16: =高知２!T39 -> 0 | N16: =高知２!V39 -> 0 | O16: =高知２!X39 -> 0 | P16: =高知２!Y39 -> 0 | Q16: =SUM(B16,D16,I16,K16,M16,O16) -> 3330 | R16: =IF(サイズ2="","",SUM(C16,H16,J16,L16,N16,P16)) -> 0
A17: 安芸郡 | B17: =高知３!C14 -> 4220 | C17: =高知３!D14 -> 0 | D17: =高知３!G14 -> 80 | H17: =高知３!H14 -> 0 | I17: =高知３!M14 -> 40 | J17: =高知３!O14 -> 0 | K17: =高知３!Q14 -> 0 | L17: =高知３!R14 -> 0 | M17: =高知３!T14 -> 0 | N17: =高知３!V14 -> 0 | O17: =高知３!X14 -> 0 | P17: =高知３!Y14 -> 0 | Q17: =SUM(B17,D17,I17,K17,M17,O17) -> 4340 | R17: =IF(サイズ2="","",SUM(C17,H17,J17,L17,N17,P17)) -> 0
A18: 室戸市 | B18: =高知３!C20 -> 2790 | C18: =高知３!D20 -> 0 | D18: =高知３!G20 -> 100 | H18: =高知３!H20 -> 0 | I18: =高知３!M20 -> 0 | J18: =高知３!O20 -> 0 | K18: =高知３!Q20 -> 0 | L18: =高知３!R20 -> 0 | M18: =高知３!T20 -> 0 | N18: =高知３!V20 -> 0 | O18: =高知３!X20 -> 0 | P18: =高知３!Y20 -> 0 | Q18: =SUM(B18,D18,I18,K18,M18,O18) -> 2890 | R18: =IF(サイズ2="","",SUM(C18,H18,J18,L18,N18,P18)) -> 0
A19: 吾川郡① | B19: =高知３!C31 -> 5930 | C19: =高知３!D31 -> 0 | D19: =高知３!G31 -> 120 | H19: =高知３!H31 -> 0 | I19: =高知３!M31 -> 0 | J19: =高知３!O31 -> 0 | K19: =高知３!Q31 -> 0 | L19: =高知３!R31 -> 0 | M19: =高知３!T31 -> 0 | N19: =高知３!V31 -> 0 | O19: =高知３!X31 -> 0 | P19: =高知３!Y31 -> 0 | Q19: =SUM(B19,D19,I19,K19,M19,O19) -> 6050 | R19: =IF(サイズ2="","",SUM(C19,H19,J19,L19,N19,P19)) -> 0
A20: 高岡郡① | B20: =高知３!C37 -> 4500 | C20: =高知３!D37 -> 0 | D20: =高知３!G37 -> 170 | H20: =高知３!H37 -> 0 | I20: =高知３!M37 -> 70 | J20: =高知３!O37 -> 0 | K20: =高知３!Q37 -> 0 | L20: =高知３!R37 -> 0 | M20: =高知３!T37 -> 0 | N20: =高知３!V37 -> 0 | O20: =高知３!X37 -> 70 | P20: =高知３!Y37 -> 0 | Q20: =SUM(B20,D20,I20,K20,M20,O20) -> 4810 | R20: =IF(サイズ2="","",SUM(C20,H20,J20,L20,N20,P20)) -> 0
A21: 吾川郡② | B21: =高知４!C10 -> 0 | C21: =高知４!D10 -> 0 | D21: =高知４!G10 -> 0 | H21: =高知４!H10 -> 0 | I21: =高知４!M10 -> 0 | J21: =高知４!O10 -> 0 | K21: =高知４!Q10 -> 0 | L21: =高知４!R10 -> 0 | M21: =高知４!T10 -> 0 | N21: =高知４!V10 -> 0 | O21: =高知４!X10 -> 0 | P21: =高知４!Y10 -> 0 | Q21: =SUM(B21,D21,I21,K21,M21,O21) -> 0 | R21: =IF(サイズ2="","",SUM(C21,H21,J21,L21,N21,P21)) -> 0
A22: 土佐市 | B22: =高知４!C15 -> 4770 | C22: =高知４!D15 -> 0 | D22: =高知４!G15 -> 180 | H22: =高知４!H15 -> 0 | I22: =高知４!M15 -> 100 | J22: =高知４!O15 -> 0 | K22: =高知４!Q15 -> 50 | L22: =高知４!R15 -> 0 | M22: =高知４!T15 -> 0 | N22: =高知４!V15 -> 0 | O22: =高知４!X15 -> 140 | P22: =高知４!Y15 -> 0 | Q22: =SUM(B22,D22,I22,K22,M22,O22) -> 5240 | R22: =IF(サイズ2="","",SUM(C22,H22,J22,L22,N22,P22)) -> 0
A23: 須崎市 | B23: =高知４!C22 -> 4220 | C23: =高知４!D22 -> 0 | D23: =高知４!G22 -> 200 | H23: =高知４!H22 -> 0 | I23: =高知４!M22 -> 120 | J23: =高知４!O22 -> 0 | K23: =高知４!Q22 -> 30 | L23: =高知４!R22 -> 0 | M23: =高知４!T22 -> 0 | N23: =高知４!V22 -> 0 | O23: =高知４!X22 -> 140 | P23: =高知４!Y22 -> 0 | Q23: =SUM(B23,D23,I23,K23,M23,O23) -> 4710 | R23: =IF(サイズ2="","",SUM(C23,H23,J23,L23,N23,P23)) -> 0
A24: 高岡郡② | B24: =高知４!C37 -> 6500 | C24: =高知４!D37 -> 0 | D24: =高知４!G37 -> 140 | H24: =高知４!H37 -> 0 | I24: =高知４!M37 -> 50 | J24: =高知４!O37 -> 0 | K24: =高知４!Q37 -> 0 | L24: =高知４!R37 -> 0 | M24: =高知４!T37 -> 0 | N24: =高知４!V37 -> 0 | O24: =高知４!X37 -> 0 | P24: =高知４!Y37 -> 0 | Q24: =SUM(B24,D24,I24,K24,M24,O24) -> 6690 | R24: =IF(サイズ2="","",SUM(C24,H24,J24,L24,N24,P24)) -> 0
A25: 幡多郡① | B25: =高知５!C9 -> 2080 | C25: =高知５!D9 -> 0 | D25: =高知５!G9 -> 30 | H25: =高知５!H9 -> 0 | I25: =高知５!L9 -> 0 | J25: =高知５!M9 -> 0 | K25: =高知５!P8 -> 0 | L25: =高知５!Q8 -> 0 | M25: =高知５!S9 -> 0 | N25: =高知５!U9 -> 0 | O25: =高知５!W9 -> 0 | P25: =高知５!X9 -> 0 | Q25: =SUM(B25,D25,I25,K25,M25,O25) -> 2110 | R25: =IF(サイズ2="","",SUM(C25,H25,J25,L25,N25,P25)) -> 0
A26: 四万十市 | B26: =高知５!C16 -> 6050 | C26: =高知５!D16 -> 0 | D26: =高知５!G16 -> 1000 | H26: =高知５!H16 -> 0 | I26: =高知５!L16 -> 700 | J26: =高知５!N16 -> 0 | K26: =高知５!P16 -> 130 | L26: =高知５!Q16 -> 0 | M26: =高知５!S16 -> 60 | N26: =高知５!U16 -> 0 | O26: =高知５!W16 -> 160 | P26: =高知５!X16 -> 0 | Q26: =SUM(B26,D26,I26,K26,M26,O26) -> 8100 | R26: =IF(サイズ2="","",SUM(C26,H26,J26,L26,N26,P26)) -> 0
A27: 土佐清水市 | B27: =高知５!C22 -> 2720 | C27: =高知５!D22 -> 0 | D27: =高知５!G22 -> 400 | H27: =高知５!H22 -> 0 | I27: =高知５!L22 -> 0 | J27: =高知５!N22 -> 0 | K27: =高知５!P22 -> 80 | L27: =高知５!Q22 -> 0 | M27: =高知５!S22 -> 0 | N27: =高知５!U22 -> 0 | O27: =高知５!W22 -> 30 | P27: =高知５!X22 -> 0 | Q27: =SUM(B27,D27,I27,K27,M27,O27) -> 3230 | R27: =IF(サイズ2="","",SUM(C27,H27,J27,L27,N27,P27)) -> 0
A28: 宿毛市 | B28: =高知５!C28 -> 3280 | C28: =高知５!D28 -> 0 | D28: =高知５!G28 -> 1000 | H28: =高知５!H28 -> 0 | I28: =高知５!L28 -> 0 | J28: =高知５!N28 -> 0 | K28: =高知５!P28 -> 0 | L28: =高知５!Q28 -> 0 | M28: =高知５!S28 -> 0 | N28: =高知５!U28 -> 0 | O28: =高知５!W28 -> 0 | P28: =高知５!X28 -> 0 | Q28: =SUM(B28,D28,I28,K28,M28,O28) -> 4280 | R28: =IF(サイズ2="","",SUM(C28,H28,J28,L28,N28,P28)) -> 0
A29: 幡多郡② | B29: =高知５!C33 -> 1330 | C29: =高知５!D33 -> 0 | D29: =高知５!G33 -> 0 | H29: =高知５!H33 -> 0 | I29: =高知５!L33 -> 0 | J29: =高知５!M33 -> 0 | K29: =高知５!P33 -> 0 | L29: =高知５!Q33 -> 0 | M29: =高知５!S33 -> 0 | N29: =高知５!U33 -> 0 | O29: =高知５!W33 -> 0 | P29: =高知５!X33 -> 0 | Q29: =SUM(B29,D29,I29,K29,M29,O29) -> 1330 | R29: =IF(サイズ2="","",SUM(C29,H29,J29,L29,N29,P29)) -> 0
A30: 高知県合計 | B30: =SUM(B10:B29) -> 129000 | C30: =IF(サイズ2="","",SUM(C10:C29)) -> 0 | D30: =SUM(D10:D29) -> 7610 | H30: =IF(サイズ2="","",SUM(H10:H29)) -> 0 | I30: =SUM(I10:I29) -> 5210 | J30: =IF(サイズ2="","",SUM(J10:J29)) -> 0 | K30: =SUM(K10:K29) -> 2130 | L30: =IF(サイズ2="","",SUM(L10:L29)) -> 0 | M30: =SUM(M10:M29) -> 1000 | N30: =IF(サイズ2="","",SUM(N10:N29)) -> 0 | O30: =SUM(O10:O29) -> 4370 | P30: =IF(サイズ2="","",SUM(P10:P29)) -> 0 | Q30: =SUM(Q10:Q29) -> 149320 | R30: =IF(サイズ2="","",SUM(C30,H30,J30,L30,N30,P30)) -> 0
A31: （全国紙）高知市・南国市 計 | D31: =SUM(D10:D11) -> 3770 | H31: =IF(サイズ2="","",SUM(H10:H11)) -> 0 | I31: =SUM(I10:I11) -> 3530 | J31: =IF(サイズ2="","",SUM(J10:J11)) -> 0 | K31: =SUM(K10:K11) -> 1720 | L31: =IF(サイズ2="","",SUM(L10:L11)) -> 0 | M31: =SUM(M10:M11) -> 880 | N31: =IF(サイズ2="","",SUM(N10:N11)) -> 0 | O31: =SUM(O10:O11) -> 3680 | P31: =IF(サイズ2="","",SUM(P10:P11)) -> 0 | Q31: =D31+I31+K31+M31+O31 -> 13580 | R31: =IF(サイズ2="","",SUM(C31,H31,J31,L31,N31,P31)) -> 0
A32: （全国紙）上記以外の地区 計 | D32: =SUM(D12:D29) -> 3840 | H32: =IF(サイズ2="","",SUM(H12:H29)) -> 0 | I32: =SUM(I12:I29) -> 1680 | J32: =IF(サイズ2="","",SUM(J12:J29)) -> 0 | K32: =SUM(K12:K29) -> 410 | L32: =IF(サイズ2="","",SUM(L12:L29)) -> 0 | M32: =SUM(M12:M29) -> 120 | N32: =IF(サイズ2="","",SUM(N12:N29)) -> 0 | O32: =SUM(O12:O29) -> 690 | P32: =IF(サイズ2="","",SUM(P12:P29)) -> 0 | Q32: =D32+I32+K32+M32+O32 -> 6740 | R32: =IF(サイズ2="","",SUM(C32,H32,J32,L32,N32,P32)) -> 0
A33: 高知県金額 | B33: =IF(サイズ2="","",HLOOKUP(サイズ2,$F$36:$M$39,2,0)*C30) -> #N/A | D33: =IF(サイズ2="","",HLOOKUP(サイズ2,$F$36:$M$39,3,0)*H31+HLOOKUP(サイズ2,$F$36:$M$39,4,0)*H32) -> #N/A | I33: =IF(サイズ2="","",HLOOKUP(サイズ2,$F$36:$M$39,3,0)*J31+HLOOKUP(サイズ2,$F$36:$M$39,4,0)*J32) -> #N/A | K33: =IF(サイズ2="","",HLOOKUP(サイズ2,$F$36:$M$39,3,0)*L31+HLOOKUP(サイズ2,$F$36:$M$39,4,0)*L32) -> #N/A | M33: =IF(サイズ2="","",HLOOKUP(サイズ2,$F$36:$M$39,3,0)*N31+HLOOKUP(サイズ2,$F$36:$M$39,4,0)*N32) -> #N/A | O33: =IF(サイズ2="","",HLOOKUP(サイズ2,$F$36:$M$39,3,0)*P31+HLOOKUP(サイズ2,$F$36:$M$39,4,0)*P32) -> #N/A | Q33: =IF(サイズ2="","",INT(SUM(B33:P33))) -> #N/A
A34: ※販売店の区域と行政区域は一致していない場合があります。
A35: 県 名 | B35: 新 聞 名 | C35: 地 域 | H35: 折 込 単 価 （ 税 別 ） | N35: 備 考
E36: - | F36: Ａ４ | G36: Ｂ５ | H36: Ｂ４ | I36: Ｂ３ | J36: Ｂ２ | K36: Ａ３ | L36: Ｂ４厚紙 | M36: Ｂ３+葉書
A37: 高 知 県 | B37: 高知新聞 | C37: 高知県全域 | F37: 3.2 | G37: 3.2 | H37: 3.2 | I37: 6 | J37: 10 | K37: 3.7 | L37: 3.7 | M37: 6.5 | N37: 当社指定の配送センターへ送りつけの荷物にかぎりの単価です。 転送が必要の場合1枚に付き＠40銭加算します。 ※厚紙・・・高知新聞90ｋｇ以上、B3は不可 ・・・全国紙は110ｋｇ以上で50銭増
B38: 全国紙 | C38: 高知市・南国市 | F38: 2.7 | G38: 2.7 | H38: 2.7 | I38: 4.5 | J38: 7.5 | K38: 4.5 | L38: 3.2 | M38: 5
C39: 上記以外の地区 | F39: 3.5 | G39: 3.5 | H39: 3.5 | I39: 4.5 | J39: 7.5 | K39: 4.5 | L39: 4 | M39: 5
H40: 上記料金には消費税は含まれておりません。 | R40: =B6 -> 2025年10月現在

Sheet 高知市
A1: 折込指定日 | F1: ページ合計／折込総合計 | M1: サイズ | N1: 広告主名(チラシ表記の名称) | T1: タイトル等(詳しく記入)
A2: =市郡別!A4 -> 0 | F2: =SUM(G41,L41,O41,R41,U41,X41) -> 0 | J2: =市郡別!R30 -> 0 | M2: =市郡別!サイズ2 -> - | N2: =市郡別!K4 -> 0 | T2: =市郡別!N4 -> 0
A4: 地区 | B4: 高 知 新 聞 | H4: 読 売 新 聞 | M4: 朝 日 新 聞 | P4: 毎 日 新 聞 | S4: 産 経 新 聞 | V4: 日 経 新 聞
B5: 店 名 | C5: 部 数 | D5: 配布数 | E5: 店 名 | F5: 部 数 | G5: 配布数 | H5: 店 名 | K5: 部 数 | L5: 配布数 | M5: 店 名 | N5: 部 数 | O5: 配布数 | P5: 店 名 | Q5: 部 数 | R5: 配布数 | S5: 店 名 | T5: 部 数 | U5: 配布数 | V5: 店 名 | W5: 部 数 | X5: 配布数
A6: 高 知 市 | B6: 粟田 | C6: 1850 | E6: 三里 | F6: 1960 | H6: 朝倉 | K6: 300 | M6: 高知西部 | N6: 950 | P6: 朝倉 | Q6: 300 | S6: 高知中央 | T6: 550 | V6: 朝倉 | W6: 210
B7: 門田 | C7: 1540 | E7: 十津 | F7: - | H7: 高知西部 | K7: 600 | M7: 高知中央 | N7: 700 | P7: 高知西部 | Q7: 120 | S7: 高知旭 | T7: 250 | V7: 高知西部 | W7: 100
B8: 乾 | C8: 1530 | E8: 大津 | F8: 1780 | H8: 高知中央 | K8: 650 | M8: 高知東部 | N8: 800 | P8: 高知旭 | Q8: 220 | S8: 長浜 | T8: - | V8: 高知旭 | W8: 350
B9: 浜渦 | C9: 1750 | E9: 介良 | F9: 1560 | H9: 高知東部 | K9: 550 | M9: 高知南部 | N9: 400 | P9: 高知中央 | Q9: 300 | S9: 東部 | T9: - | V9: 中央 | W9: 950
B10: 市原 | C10: 1360 | E10: 潮見甲 | F10: 620 | H10: 高知北部 | K10: 500 | M10: 高須 | N10: - | P10: 高知東部 | Q10: 40 | S10: 高須 | T10: - | V10: 北部 | W10: 720
B11: 谷口 | C11: 1230 | E11: 長浜 | F11: 2150 | H11: 桟橋 | K11: 400 | M11: 南国 | N11: 130 | P11: 南国 | Q11: 30 | S11: 大津 | T11: - | V11: 南部 | W11: 410
B12: 畑中 | C12: 1220 | E12: 長浜成岡 | F12: 1070 | H12: 長浜 | K12: 300 | M12: みさと | N12: 150 | P12: みさと | Q12: 150 | S12: 介良 | T12: - | V12: 高須 | W12: -
B13: 山崎 | C13: 2100 | E13: 横浜(合) | F13: 1700 | H13: 春野 | K13: 70 | P13: 高知北部 | Q13: 200 | V13: 東部 | W13: 400
B14: 山本 | C14: 1190 | E14: 尾立 | F14: （山崎へ） | P14: 南部 | Q14: 240 | V14: 春野 | W14: 130
B15: 中澤 | C15: 1220 | E15: 菖蒲 | F15: 110 | P15: 春野 | Q15: 10
B16: 川村 | C16: 1180 | E16: 鏡川口(合) | F16: 300
B17: 城北 | C17: 2420
B18: 澤村 | C18: 1320 | E18: 春野西(合) | F18: 1040
B19: 江ノ口 | C19: 1340 | E19: 芳原(合) | F19: 1690
B20: 堀内 | C20: 1000 | E20: 春野南(合) | F20: 480
B21: 近森 | C21: 1490 | E21: 新市内計 | F21: =SUM(F6:F20) -> 14460
B22: 北部 | C22: 2270
B23: 安松 | C23: 1430
B24: 宮内 | C24: 1230
B25: 潮江 | C25: -
B26: 美濃部 | C26: 1270
B27: 筒井(合) | C27: 1320
B28: 桜井 | C28: 780
B29: 井上 | C29: 800
B30: 城東 | C30: 1470
B31: 本町 | C31: 1580
B32: 薊野 | C32: -
B33: 一宮 | C33: 2410
B34: 五台山 | C34: 1120
B35: 高須(合) | C35: 1490
B40: 旧市内計 | C40: =SUM(C6:C39) -> 40910
A41: =F41+K41+N41+Q41+T41+W41 -> 67550 | E41: 計 | F41: =SUM(F21,C40) -> 55370 | G41: =SUM(G6:G20,D6:D39) -> 0 | H41: 計 | K41: =SUM(K6:K13) -> 3370 | L41: =SUM(L6:L13) -> 0 | M41: 計 | N41: =SUM(N6:N12) -> 3130 | O41: =SUM(O6:O12) -> 0 | P41: 計 | Q41: =SUM(Q6:Q15) -> 1610 | R41: =SUM(R6:R15) -> 0 | S41: 計 | T41: =SUM(T6:T11) -> 800 | U41: =SUM(U6:U11) -> 0 | V41: 計 | W41: =SUM(W6:W14) -> 3270 | X41: =SUM(X6:X14) -> 0
W43: =市郡別!$R$40 -> 2025年10月現在

Sheet 高知２
A1: 折込指定日 | F1: ページ合計／折込総合計 | N1: サイズ | P1: 広告主名(チラシ表記の名称) | U1: タイトル等(詳しく記入)
A2: =市郡別!A4 -> 0 | F2: =SUM(D42,H42,O42,R42,V42,Y42) -> 0 | J2: =市郡別!R30 -> 0 | N2: =市郡別!サイズ2 -> - | P2: =市郡別!K4 -> 0 | U2: =市郡別!N4 -> 0
A4: 地区 | B4: 高 知 新 聞 | E4: 読 売 新 聞 | J4: 朝 日 新 聞 | P4: 毎 日 新 聞 | S4: 産 経 新 聞 | W4: 日 経 新 聞
B5: 店 名 | C5: 部 数 | D5: 配布数 | E5: 店 名 | G5: 部 数 | H5: 配布数 | J5: 店 名 | M5: 部 数 | O5: 配布数 | P5: 店 名 | Q5: 部 数 | R5: 配布数 | S5: 店 名 | T5: 部 数 | V5: 配布数 | W5: 店 名 | X5: 部 数 | Y5: 配布数
A6: 南 国 市 | B6: 後免 | C6: 2170 | E6: 南国市 | G6: 400 | J6: 南国市北部 | M6: 300 | P6: 南国市北部 | Q6: 70 | S6: 南国市北部 | T6: 60 | W6: 南国市 | X6: 410
B7: 潮見乙 | C7: 700 | J7: 南国市南部 | M7: 100 | P7: 南国市南部 | Q7: 40 | S7: 南国市南部 | T7: 20
B8: 南国北村 | C8: 1180
B9: 岡豊 | C9: 1320
B10: 十市 | C10: 1540
B11: 前浜 | C11: 640
B12: 香南名倉 立田支所 | C12: 810
A13: =SUM(C13,G13,M13,Q13,T13,X13) -> 9760 | B13: 計 | C13: =SUM(C6:C12) -> 8360 | D13: =SUM(D6:D12) -> 0 | E13: 計 | G13: =SUM(G6:G12) -> 400 | H13: =SUM(H6:H12) -> 0 | J13: 計 | M13: =SUM(M6:M12) -> 400 | O13: =SUM(O6:O12) -> 0 | P13: 計 | Q13: =SUM(Q6:Q12) -> 110 | R13: =SUM(R6:R12) -> 0 | S13: 計 | T13: =SUM(T6:U12) -> 80 | V13: =SUM(V6:V12) -> 0 | W13: 計 | X13: =SUM(X6:X12) -> 410 | Y13: =SUM(Y6:Y12) -> 0
A14: 香南市 | B14: 夜須(合) | C14: 1150
B15: 香南名倉（合） | C15: 980
B16: 香宗(合) | C16: 1340
B17: 山北(合) | C17: 920
B18: 野市(合) | C18: 1800 | E18: 香南 | G18: 200 | J18: 野市町 | M18: 150
A19: =SUM(C19,G19,M19) -> 6540 | B19: 計 | C19: =SUM(C14:C18) -> 6190 | D19: =SUM(D14:D18) -> 0 | E19: 計 | G19: =SUM(G18) -> 200 | H19: =SUM(H18) -> 0 | J19: 計 | M19: =SUM(M18) -> 150 | O19: =SUM(O18) -> 0
A20: 香美市 | B20: 香北町 香北 | C20: 940
B21: 物部村 大栃 | C21: 290
B22: 山田町 堺 | C22: 1440 | E22: 香美 | G22: 100 | J22: 土佐山田町 | M22: 450 | P22: 土佐山田町 | Q22: 120 | S22: 土佐山田町 | T22: 60 | W22: 土佐山田町 | X22: 150
B23: 〃関田 | C23: 1230
B24: 〃山本 | C24: 1210
B25: 〃片地 | C25: -
B26: 大杉(合) | C26: 70
A27: =SUM(C27,G27,M27,Q27,T27,X27) -> 6060 | B27: 計 | C27: =SUM(C20:C26) -> 5180 | D27: =SUM(D20:D26) -> 0 | E27: 計 | G27: =SUM(G22:G26) -> 100 | H27: =SUM(H22) -> 0 | J27: 計 | M27: =SUM(M22:M26) -> 450 | O27: =SUM(O22) -> 0 | P27: 計 | Q27: =SUM(Q22:Q26) -> 120 | R27: =SUM(R22) -> 0 | S27: 計 | T27: =SUM(T22:T26) -> 60 | V27: =SUM(V22) -> 0 | W27: 計 | X27: =SUM(X22:X26) -> 150 | Y27: =SUM(Y22) -> 0
A28: 長岡郡 | B28: 本山(合) | C28: 820
B29: 大豊町 大杉(合) | C29: 310
B30: 〃 大田口(合) | C30: 120
B31: 〃 重森(合) | C31: 180
A32: =SUM(C32,G32,M32,Q32,T32,X32) -> 1430 | B32: 計 | C32: =SUM(C28:C31) -> 1430 | D32: =SUM(D28:D31) -> 0 | G32: =SUM(G28:G31) -> 0 | H32: =SUM(H28:H31) -> 0 | M32: =SUM(M28:M31) -> 0 | O32: =SUM(O28:O31) -> 0 | Q32: =SUM(Q28:Q31) -> 0 | R32: =SUM(R28:R31) -> 0 | T32: =SUM(T28:T31) -> 0 | V32: =SUM(V28:V31) -> 0 | X32: =SUM(X28:X31) -> 0 | Y32: =SUM(Y28:Y31) -> 0
A33: 土佐郡 | B33: れいほく | C33: 750 | E33: 嶺北 | G33: 120 | J33: 嶺北 | M33: -
B34: 土佐地蔵寺 | C34: -
A35: =SUM(C35,G35,M35,Q35,T35,X35) -> 870 | B35: 計 | C35: =SUM(C33:C34) -> 750 | D35: =SUM(D33:D34) -> 0 | E35: 計 | G35: =SUM(G33:G34) -> 120 | H35: =SUM(H33:H34) -> 0 | J35: 計 | M35: =SUM(M33:N34) -> 0 | O35: =SUM(O33:O34) -> 0 | Q35: =SUM(Q33:Q34) -> 0 | R35: =SUM(R33:R34) -> 0 | T35: =SUM(T33:T34) -> 0 | V35: =SUM(V33:V34) -> 0 | X35: =SUM(X33:X34) -> 0 | Y35: =SUM(Y33:Y34) -> 0
A36: 安芸市 | B36: 安芸小松 | C36: 2300 | E36: 安芸市 | G36: - | P36: 安芸市 | Q36: - | S36: 安芸市 | T36: - | W36: 安芸市 | X36: -
B37: 安芸影山 | C37: 1030
B38: 安芸足達 | C38: -
A39: =SUM(C39,G39,M39,Q39,T39,X39) -> 3330 | B39: 計 | C39: =SUM(C36:C38) -> 3330 | D39: =SUM(D36:D38) -> 0 | E39: 計 | G39: =SUM(G36:G38) -> 0 | H39: =SUM(H36:H38) -> 0 | J39: 計 | M39: =SUM(M36:M38) -> 0 | O39: =SUM(O36:O38) -> 0 | P39: 計 | Q39: =SUM(Q36:Q38) -> 0 | R39: =SUM(R36:R38) -> 0 | S39: 計 | T39: =SUM(T36:T38) -> 0 | V39: =SUM(V36:V38) -> 0 | W39: 計 | X39: =SUM(X36:X38) -> 0 | Y39: =SUM(Y36:Y38) -> 0
A41: ページ合計
A42: =SUM(X42,T42,Q42,M42,G42,C42) -> 27990 | B42: 計 | C42: =SUM(C13,C19,C27,C32,C35,C39) -> 25240 | D42: =SUM(D13,D19,D27,D32,D35,D39) -> 0 | E42: 計 | G42: =SUM(G13,G19,G27,G35,G39) -> 820 | H42: =SUM(H13,H19,H27,H35,H39) -> 0 | J42: 計 | M42: =SUM(M13,M19,M27,M35,M39) -> 1000 | O42: =SUM(O13,O19,O27,O35,O39) -> 0 | P42: 計 | Q42: =SUM(Q13,Q27,Q39) -> 230 | R42: =SUM(R13,R27,R39) -> 0 | S42: 計 | T42: =SUM(T13,T27,T39) -> 140 | V42: =SUM(V13,V27,V39) -> 0 | W42: 計 | X42: =SUM(X13,X27,X39) -> 560 | Y42: =SUM(Y13,Y27,Y39) -> 0
...

Sheet 高知３
A1: 折込指定日 | F1: ページ合計／折込総合計 | N1: サイズ | P1: 広告主名(チラシ表記の名称) | U1: タイトル等(詳しく記入)
A2: =市郡別!A4 -> 0 | F2: =SUM(D39,H39,O39,R39,V39,Y39) -> 0 | J2: =市郡別!R30 -> 0 | N2: =市郡別!サイズ2 -> - | P2: =市郡別!K4 -> 0 | U2: =市郡別!N4 -> 0
A4: 地区 | B4: 高 知 新 聞 | E4: 読 売 新 聞 | J4: 朝 日 新 聞 | P4: 毎 日 新 聞 | S4: 産 経 新 聞 | W4: 日 経 新 聞
B5: 店 名 | C5: 部 数 | D5: 配布数 | E5: 店 名 | G5: 部 数 | H5: 配布数 | J5: 店 名 | M5: 部 数 | O5: 配布数 | P5: 店 名 | Q5: 部 数 | R5: 配布数 | S5: 店 名 | T5: 部 数 | V5: 配布数 | W5: 店 名 | X5: 部 数 | Y5: 配布数
A6: 安 芸 郡 | B6: 芸西 | C6: 1180
B7: 安田 | C7: 620 | J7: 安田 | M7: -
B8: 馬路 | C8: 260
B9: 田野(合) | C9: 700
B10: 奈半利(合) | C10: 710 | E10: 奈半利町 | G10: 50
B11: 北川村野友 | C11: 300
B12: 東洋町甲浦 | C12: 260 | E12: 甲浦 | G12: 30 | J12: 甲浦 | M12: 40 | P12: 甲浦 | Q12: - | S12: 甲浦 | T12: - | W12: 甲浦 | X12: -
B13: 〃東洋(合) | C13: 190
A14: =SUM(C14,G14,M14,Q14,T14,X14) -> 4340 | B14: 計 | C14: =SUM(C6:C13) -> 4220 | D14: =SUM(D6:D13) -> 0 | E14: 計 | G14: =SUM(G6:G13) -> 80 | H14: =SUM(H6:H13) -> 0 | J14: 計 | M14: =SUM(M6:M13) -> 40 | O14: =SUM(O6:O13) -> 0 | P14: 計 | Q14: =SUM(Q6:Q13) -> 0 | R14: =SUM(R6:R13) -> 0 | S14: 計 | T14: =SUM(T12:U13) -> 0 | V14: =SUM(V6:V13) -> 0 | W14: 計 | X14: =SUM(X6:X13) -> 0 | Y14: =SUM(Y6:Y13) -> 0
A15: 室戸市 | B15: 室戸(合) | C15: 1180 | E15: 室戸市 | G15: 100 | J15: 室戸市 | M15: - | P15: 室戸市 | Q15: - | S15: 室戸市 | T15: - | W15: 室戸市 | X15: -
B16: 吉良川(合) | C16: 440
B17: 羽根(合) | C17: 360
B18: 津呂(合) | C18: 420
B19: 佐喜浜(合) | C19: 390
A20: =SUM(C20,G20,M20,Q20,T20,X20) -> 2890 | B20: 計 | C20: =SUM(C15:C19) -> 2790 | D20: =SUM(D15:D19) -> 0 | E20: 計 | G20: =SUM(G15:G19) -> 100 | H20: =SUM(H15:H19) -> 0 | J20: 計 | M20: =SUM(M15:M19) -> 0 | O20: =SUM(O15:O19) -> 0 | P20: 計 | Q20: =SUM(Q15:Q19) -> 0 | R20: =SUM(R15:R19) -> 0 | S20: 計 | T20: =SUM(T15:U19) -> 0 | V20: =SUM(V15:V19) -> 0 | W20: 計 | X20: =SUM(X15:X19) -> 0 | Y20: =SUM(Y15:Y19) -> 0
A21: 吾川郡① | B21: いの町 伊野東(合) | C21: 1030 | E21: いの町 | G21: 120 | J21: いの町 | M21: -
B22: 〃 伊野西(合) | C22: 1980
B23: 〃神谷 | C23: （伊野西へ）
B24: 〃 枝川(合) | C24: 1320
B25: 〃 下八川(合) | C25: （上八川へ）
B26: 〃 上八川(合) | C26: 520
B27: 〃日比原 | C27: -
B28: 仁淀川町 池川(合) | C28: 290
B29: 〃 吾川(合) | C29: 420
B30: 〃 別府(合) | C30: 370
A31: =SUM(C31,G31,M31) -> 6050 | B31: 計 | C31: =SUM(C21:C30) -> 5930 | D31: =SUM(D21:D30) -> 0 | E31: 計 | G31: =SUM(G21:G29) -> 120 | H31: =SUM(H21:H29) -> 0 | J31: 計 | M31: =SUM(M21:M29) -> 0 | O31: =SUM(O21:O29) -> 0 | Q31: =SUM(Q21:Q29) -> 0 | R31: =SUM(R21:R29) -> 0 | T31: =SUM(U21:U29) -> 0 | V31: =SUM(V21:V29) -> 0 | X31: =SUM(X21:X29) -> 0 | Y31: =SUM(Y21:Y29) -> 0
A32: 高岡郡① | B32: 佐川 | C32: 2370 | E32: 佐川町 | G32: 100 | J32: 佐川町 | M32: 50 | W32: 佐川町 | X32: 70
B33: 斗賀野 | C33: （佐川へ） | E33: 日下 | G33: 50 | S33: 日下 | T33: -
B34: 日高(合) | C34: 1160
B35: 越知町 越知(合) | C35: 970 | E35: 越知町 | G35: 20 | J35: 越知町 | M35: 20 | W35: 越知町 | X35: -
B36: 〃明治 | C36: （越知へ）
A37: =SUM(C37,G37,M37,Q37,T37,X37) -> 4810 | B37: 計 | C37: =SUM(C32:C36) -> 4500 | D37: =SUM(D32:D36) -> 0 | E37: 計 | G37: =SUM(G32:G36) -> 170 | H37: =SUM(H32:H36) -> 0 | J37: 計 | M37: =SUM(M32:M36) -> 70 | O37: =SUM(O32:O36) -> 0 | T37: =SUM(T32:U36) -> 0 | V37: =SUM(V32:V36) -> 0 | W37: 計 | X37: =SUM(X32:X36) -> 70 | Y37: =SUM(Y32:Y36) -> 0
A38: ページ合計
A39: =SUM(C39,G39,M39,Q39,T39,X39) -> 18090 | B39: 計 | C39: =SUM(C37,C31,C20,C14) -> 17440 | D39: =SUM(D14,D20,D31,D37) -> 0 | E39: 計 | G39: =SUM(G14,G20,G31,G37) -> 470 | H39: =SUM(H14,H20,H31,H37) -> 0 | J39: 計 | M39: =SUM(M37,M31,M20,M14) -> 110 | O39: =SUM(O14,O20,O31,O37) -> 0 | P39: 計 | Q39: =SUM(Q14,Q20,Q31,Q37) -> 0 | R39: =SUM(R14,R20,R31,R37) -> 0 | S39: 計 | T39: =SUM(T14,T20,T31,T37) -> 0 | V39: =SUM(V14,V20,V31,V37) -> 0 | W39: 計 | X39: =SUM(X14,X20,X31,X37) -> 70 | Y39: =SUM(Y14,Y20,Y31,Y37) -> 0
X41: =市郡別!$R$40 -> 2025年10月現在

Sheet 高知４
A1: 折込指定日 | F1: ページ合計／折込総合計 | N1: サイズ | P1: 広告主名(チラシ表記の名称) | U1: タイトル等(詳しく記入)
A2: =市郡別!A4 -> 0 | F2: =SUM(D44,H44,O44,R44,Y44) -> 0 | J2: =市郡別!R30 -> 0 | N2: =市郡別!サイズ2 -> - | P2: =市郡別!K4 -> 0 | U2: =市郡別!N4 -> 0
A4: 地区 | B4: 高 知 新 聞 | E4: 読 売 新 聞 | J4: 朝 日 新 聞 | P4: 毎 日 新 聞 | S4: 産 経 新 聞 | W4: 日 経 新 聞
B5: 店 名 | C5: 部 数 | D5: 配布数 | E5: 店 名 | G5: 部 数 | H5: 配布数 | J5: 店 名 | M5: 部 数 | O5: 配布数 | P5: 店 名 | Q5: 部 数 | R5: 配布数 | S5: 店 名 | T5: 部 数 | V5: 配布数 | W5: 店 名 | X5: 部 数 | Y5: 配布数
A6: 吾川郡② | B6: 春野町 弘岡甲(合) | C6: -
B7: 〃 芳原(合) | C7: -
B8: 〃 春野南(合) | C8: -
B9: 〃 新川(合) | C9: -
A10: =SUM(C10,G10,M10,Q10,T10,X10) -> 0 | B10: 計 | C10: =SUM(C6:C9) -> 0 | D10: =SUM(D6:D9) -> 0 | G10: =SUM(G6:G9) -> 0 | H10: =SUM(H6:H9) -> 0 | M10: =SUM(M6:M9) -> 0 | O10: =SUM(O6:O9) -> 0 | Q10: =SUM(Q6:Q9) -> 0 | R10: =SUM(R6:R9) -> 0 | T10: =SUM(T6:T9) -> 0 | V10: =SUM(V6:V9) -> 0 | X10: =SUM(X6:X9) -> 0 | Y10: =SUM(Y6:Y9) -> 0
A11: 土佐市 | B11: 高岡(合) | C11: 1890 | E11: 土佐市 | G11: 180 | J11: 土佐市 | M11: 100 | P11: 土佐市 | Q11: 50 | W11: 土佐市 | X11: 140
B12: 高岡西 | C12: 1080
B13: 土佐西 | C13: 840
B14: 宇佐(合) | C14: 960
A15: =SUM(C15,G15,M15,Q15,T15,X15) -> 5240 | B15: 計 | C15: =SUM(C11:C14) -> 4770 | D15: =SUM(D11:D14) -> 0 | E15: 計 | G15: =SUM(G11:G14) -> 180 | H15: =SUM(H11:H14) -> 0 | J15: 計 | M15: =SUM(M11:M14) -> 100 | O15: =SUM(O11:O14) -> 0 | P15: 計 | Q15: =SUM(Q11:Q14) -> 50 | R15: =SUM(R11:R14) -> 0 | T15: =SUM(T11:T14) -> 0 | V15: =SUM(V11:V14) -> 0 | W15: 計 | X15: =SUM(X11:X14) -> 140 | Y15: =SUM(Y11:Y14) -> 0
A16: 須崎市 | B16: 須崎東(合) | C16: 760 | E16: 須崎市 | G16: 200 | J16: 須崎市 | M16: 120 | P16: 須崎市 | Q16: 30 | W16: 須崎市 | X16: 140
B17: 須崎西 | C17: 1100
B18: 須崎金山 | C18: 1230
B19: 吾桑(合) | C19: 610
B20: 浦の内 | C20: 520
A22: =SUM(,C22,G22,M22,Q22,T22,X22) -> 4710 | B22: 計 | C22: =SUM(C16:C21) -> 4220 | D22: =SUM(D16:D21) -> 0 | E22: 計 | G22: =SUM(G16:G21) -> 200 | H22: =SUM(H16:H21) -> 0 | J22: 計 | M22: =SUM(M16:M21) -> 120 | O22: =SUM(O16:O21) -> 0 | P22: 計 | Q22: =SUM(Q16:Q21) -> 30 | R22: =SUM(R16:R21) -> 0 | W22: 計 | X22: =SUM(X16:X21) -> 140 | Y22: =SUM(Y16:Y21) -> 0
A23: 高 岡 郡 ② | B23: 中土佐町 久礼(合) | C23: 960 | E23: 中土佐町 | G23: 50
B24: 〃 大野見(合) | C24: 310
B25: 津野町 葉山 | C25: 740
B26: 〃 東津野(合) | C26: 440
B27: 梼原町 梼原(合) | C27: 470 | E27: 梼原町 | G27: 20
B28: 〃越知面 | C28: 100
B29: 四万十町 窪川(合) | C29: 1070 | E29: 四万十町 | G29: 70 | J29: 四万十町 | M29: 50
B30: 〃南川口 | C30: 280
B31: 〃 仁井田(合) | C31: 340
B32: 〃東又 | C32: 540
B33: 〃 松葉川(合) | C33: 250
B34: 〃 興津(合) | C34: （東又へ）
B35: 〃大正 | C35: 460
B36: 〃 十和(合) | C36: 540
A37: =SUM(C37,G37,M37,Q37,T37,X37) -> 6690 | B37: 計 | C37: =SUM(C23:C36) -> 6500 | D37: =SUM(D23:D36) -> 0 | E37: 計 | G37: =SUM(G23:G36) -> 140 | H37: =SUM(H23:H36) -> 0 | J37: 計 | M37: =SUM(M23:M36) -> 50 | O37: =SUM(O23:O36) -> 0 | P37: 計 | Q37: =SUM(Q23:Q36) -> 0 | R37: =SUM(R23:R36) -> 0 | W37: 計 | X37: =SUM(X23:X36) -> 0 | Y37: =SUM(Y23:Y36) -> 0
A43: ページ合計
A44: =SUM(C44,G44,M44,Q44,T44,X44) -> 16640 | B44: 計 | C44: =SUM(C37,C22,C15,C10) -> 15490 | D44: =SUM(D10,D15,D22,D37) -> 0 | E44: 計 | G44: =SUM(G10,G15,G22,G37) -> 520 | H44: =SUM(H15,H22,H37) -> 0 | J44: 計 | M44: =SUM(M37,M22,M15,M10) -> 270 | O44: =SUM(O10,O15,O22,O37) -> 0 | P44: 計 | Q44: =SUM(Q10,Q15,Q22,Q37) -> 80 | R44: =SUM(R10,R15,R22,R37) -> 0 | T44: =SUM(T10,T15,T22,T37) -> 0 | V44: =SUM(V10,V15,V22,V37) -> 0 | W44: 計 | X44: =SUM(X10,X15,X22,X37) -> 280 | Y44: =SUM(Y10,Y15,Y22,Y37) -> 0
X46: =市郡別!$R$40 -> 2025年10月現在

Sheet 高知５
A1: 折込指定日 | F1: ページ合計／折込総合計 | M1: サイズ | O1: 広告主名(チラシ表記の名称) | T1: タイトル等(詳しく記入)
A2: =市郡別!A4 -> 0 | F2: =SUM(D40,H40,N40,Q40,U40,X40) -> 0 | I2: =市郡別!R30 -> 0 | M2: =市郡別!サイズ2 -> - | O2: =市郡別!K4 -> 0 | T2: =市郡別!N4 -> 0
A4: 地区 | B4: 高 知 新 聞 | E4: 読 売 新 聞 | I4: 朝 日 新 聞 | O4: 毎 日 新 聞 | R4: 産 経 新 聞 | V4: 日 経 新 聞
B5: 店 名 | C5: 部 数 | D5: 配布数 | E5: 店 名 | G5: 部 数 | H5: 配布数 | I5: 店 名 | L5: 部 数 | N5: 配布数 | O5: 店 名 | P5: 部 数 | Q5: 配布数 | R5: 店 名 | S5: 部 数 | U5: 配布数 | V5: 店 名 | W5: 部 数 | X5: 配布数
A6: 幡多郡① | B6: 黒潮町 佐賀(合) | C6: 640 | E6: 佐賀 | G6: 30
B7: 〃 大方(合) | C7: 1440
B8: 〃 入野(合) | C8: （大方へ）
A9: =SUM(C9,G9,L9,P9,S9,W9) -> 2110 | B9: 計 | C9: =SUM(C6:C8) -> 2080 | D9: =SUM(D6:D8) -> 0 | G9: =SUM(G6:G8) -> 30 | H9: =SUM(H6:H8) -> 0 | L9: =SUM(L6:L8) -> 0 | N9: =SUM(N6:N8) -> 0 | P9: =SUM(P6:P8) -> 0 | Q9: =SUM(Q6:Q8) -> 0 | S9: =SUM(T6:T8) -> 0 | U9: =SUM(U6:U8) -> 0 | W9: =SUM(W6:W8) -> 0 | X9: =SUM(X6:X8) -> 0
A10: 四万十市 | B10: 中村野元 | C10: 1660 | E10: 四万十市 | G10: 1000 | I10: 四万十市 | L10: 700 | O10: 四万十市 | P10: 130 | R10: 四万十市 | S10: 60 | V10: 四万十市 | W10: 160
B11: 中村松山 | C11: 1280
B12: 具同 | C12: 1280
B13: 中村細木(合) | C13: 730
B14: 有岡 | C14: 560
B15: 江川崎(合) | C15: 540
A16: =SUM(C16,G16,L16,P16,S16,W16) -> 8100 | B16: 計 | C16: =SUM(C10:C15) -> 6050 | D16: =SUM(D10:D15) -> 0 | E16: 計 | G16: =SUM(G10:G14) -> 1000 | H16: =SUM(H10:H15) -> 0 | I16: 計 | L16: =SUM(L10:L14) -> 700 | N16: =SUM(N10:N14) -> 0 | O16: 計 | P16: =SUM(P10:P14) -> 130 | Q16: =SUM(Q10:Q14) -> 0 | R16: 計 | S16: =SUM(S10:T15) -> 60 | U16: =SUM(U10:U14) -> 0 | V16: 計 | W16: =SUM(W10:W14) -> 160 | X16: =SUM(X10:X14) -> 0
A18: 土佐 清水市 | B18: 清水山本(合) | C18: 2210 | E18: 土佐清水市 | G18: 400 | I18: 土佐清水市 | L18: - | O18: 土佐清水市 | P18: 80 | R18: 土佐清水市 | S18: - | V18: 土佐清水市 | W18: 30
B19: (三崎)
B20: 清水浜口 | C20: -
B21: 下の加江(合) | C21: 510
A22: =SUM(C22,G22,L22,P22,S22,W22) -> 3230 | B22: 計 | C22: =SUM(C18:C21) -> 2720 | D22: =SUM(D18:D21) -> 0 | E22: 計 | G22: =SUM(G18:G21) -> 400 | H22: =SUM(H18:H21) -> 0 | I22: 計 | L22: =SUM(L18:L21) -> 0 | N22: =SUM(N18:N21) -> 0 | O22: 計 | P22: =SUM(P18:P21) -> 80 | Q22: =SUM(Q18:Q21) -> 0 | R22: 計 | S22: =SUM(S18:T21) -> 0 | U22: =SUM(U18:U21) -> 0 | V22: 計 | W22: =SUM(W18:W21) -> 30 | X22: =SUM(X18:X21) -> 0
A24: 宿毛市 | B24: 宿毛(合) | C24: 2500 | E24: 宿毛 | G24: 1000 | I24: 宿毛 | L24: - | O24: 宿毛 | P24: - | R24: 宿毛 | S24: - | V24: 宿毛 | W24: -
B25: (平田)
B26: 小筑紫(合) | C26: 390
B27: 片島 | C27: 390 | I27: 片島 | L27: - | O27: 片島 | P27: - | V27: 片島 | W27: -
A28: =SUM(C28,G28,L28,P28,S28,W28) -> 4280 | B28: 計 | C28: =SUM(C24:C27) -> 3280 | D28: =SUM(D24:D27) -> 0 | E28: 計 | G28: =SUM(G24:G27) -> 1000 | H28: =SUM(H24:H27) -> 0 | I28: 計 | L28: =SUM(L24:L27) -> 0 | N28: =SUM(N24:N27) -> 0 | O28: 計 | P28: =SUM(P24:P27) -> 0 | Q28: =SUM(Q24:Q27) -> 0 | R28: 計 | S28: =SUM(S24:T27) -> 0 | U28: =SUM(U24:U27) -> 0 | V28: 計 | W28: =SUM(W24:W27) -> 0 | X28: =SUM(X24:X27) -> 0
A29: 幡多郡② | B29: 大月(合) | C29: 990
B30: 三原 | C30: 340
A33: =SUM(C33,G33,L33,P33,T33,W33) -> 1330 | B33: 計 | C33: =SUM(C29:C32) -> 1330 | D33: =SUM(D29:D32) -> 0 | H33: =SUM(H29:H32) -> 0
A39: ページ合計
A40: =SUM(C40,G40,L40,P40,S40,W40) -> 19050 | B40: 計 | C40: =SUM(C33,C28,C22,C16,C9) -> 15460 | D40: =SUM(D9,D16,D22,D28,D33) -> 0 | E40: 計 | G40: =SUM(G9,G16,G22,G28,G33) -> 2430 | H40: =SUM(H9,H16,H22,H28,H33) -> 0 | I40: 計 | L40: =SUM(L9,L16,L22,L28,L33) -> 700 | N40: =SUM(N9,N16,N22,N28,N33) -> 0 | O40: 計 | P40: =SUM(P9,P16,P22,P28,P33) -> 210 | Q40: =SUM(Q9,Q16,Q22,Q28,Q33) -> 0 | R40: 計 | S40: =SUM(S16,S22,S28) -> 60 | U40: =SUM(U9,U16,U22,U28,U33) -> 0 | V40: 計 | W40: =SUM(W9,W16,W22,W28,W33) -> 190 | X40: =SUM(X9,X16,X22,X28,X33) -> 0
A41: 県下合計
A42: =高知市!A41+高知２!A42+高知３!A39+高知４!A44+高知５!A40 -> 149320 | B42: =高知市!F41+高知２!C13+高知２!C19+高知２!C27+高知２!C32+高知２!C35+高知２!C39+高知３!C14+高知３!C20+高知３!C31+高知３!C37+高知４!C15+高知４!C22+高知４!C37+高知５!C9+高知５!C16+高知５!C22+高知５!C28+高知５!C33 -> 129000 | E42: =高知市!K41+高知２!G13+高知２!G19+高知２!G27+高知２!G35+高知２!G39+高知３!G14+高知３!G20+高知３!G31+高知３!G37+高知４!G15+高知４!G22+高知４!G37+高知５!G9+高知５!G16+高知５!G22+高知５!G28 -> 7610 | I42: =高知市!N41+高知２!M13+高知２!M19+高知２!M27+高知２!M35+高知３!M14+高知３!M20+高知３!M31+高知３!M37+高知４!M15+高知４!M22+高知４!M37+高知５!L16+高知５!L22+高知５!L28 -> 5210 | O42: =高知市!Q41+高知２!Q13+高知２!Q27+高知２!Q39+高知３!Q14+高知３!Q20+高知４!Q15+高知４!Q22+高知４!Q37+高知５!P16+高知５!P22+高知５!P28 -> 2130 | R42: =高知市!T41+高知２!T13+高知２!T27+高知２!T39+高知３!T14+高知３!T20+高知３!T37+高知５!S16+高知５!S22+高知５!S28 -> 1000 | V42: =高知市!W41+高知２!X13+高知２!X27+高知２!X39+高知３!X14+高知３!X20+高知３!X37+高知４!X15+高知４!X22+高知４!X37+高知５!W16+高知５!W22+高知５!W28 -> 4370
W44: =市郡別!$R$40 -> 2025年10月現在
